BEGIN:VCALENDAR
VERSION:2.0
PRODID:-//ChamberMaster//Event Calendar 2.0//EN
METHOD:PUBLISH
X-PUBLISHED-TTL:P3D
REFRESH-INTERVAL:P3D
CALSCALE:GREGORIAN
BEGIN:VEVENT
DTSTART;VALUE=DATE:20250611
DTEND;VALUE=DATE:20250615
TRANSP:TRANSPARENT
X-MICROSOFT-CDO-ALLDAYEVENT:TRUE
SUMMARY:Jefferson Plein Air 2025
DESCRIPTION:Watch artists as they capture the beauty and character throughout the Jefferson Area. More details TBD.
X-ALT-DESC;FMTTYPE=text/html:<p 0px="" color:="" font-size:="" helvetica="" margin:="" outline:="" padding:="" style="border: 0px\;" vertical-align:=""><span style="color: rgb(5\, 5\, 5)\; font-family: &quot\;Segoe UI Historic&quot\;\, &quot\;Segoe UI&quot\;\, Helvetica\, Arial\, sans-serif\; font-size: 15px\;">Watch artists as they capture the beauty and character throughout the Jefferson Area. More details TBD.</span></p>\n
LOCATION:Various locations around Jefferson
UID:e.2671.8798
SEQUENCE:3
DTSTAMP:20260426T000620Z
URL:https://business.jeffersonchamberwi.com/events/details/2025-jefferson-plein-air-8798
END:VEVENT

END:VCALENDAR
