BEGIN:VCALENDAR
VERSION:2.0
PRODID:-//ChamberMaster//Event Calendar 2.0//EN
METHOD:PUBLISH
X-PUBLISHED-TTL:P3D
REFRESH-INTERVAL:P3D
CALSCALE:GREGORIAN
BEGIN:VEVENT
DTSTART:20260112T203000Z
DTEND:20260112T213000Z
X-MICROSOFT-CDO-ALLDAYEVENT:FALSE
SUMMARY:Adult Book Group at the Jefferson Public Library
DESCRIPTION:Let's start the new year off with the book The Serviceberry: Abundance and Reciprocity in the Natural World\n\nby Robin Wall Kimmerer.\n\nWith the natural world's serviceberry as a guide\, the author reflects on the concepts of sharing\, abundance\, and giving.\n\nJoin us for discussion and light refreshments. Newcomers are welcome to join!\n\nThis event is free and open to all adults 19+. Order your copy from the Library today!
X-ALT-DESC;FMTTYPE=text/html:<p>Let&#39\;s start the new year off with the book&nbsp\;<em>The Serviceberry: Abundance and Reciprocity in the Natural World</em></p>\n\n<p>by Robin Wall Kimmerer.</p>\n\n<p>With the natural world&rsquo\;s serviceberry as a guide\, the author reflects on the concepts of sharing\, abundance\, and giving.</p>\n\n<p>Join us for discussion and light refreshments. Newcomers are welcome to join!</p>\n\n<p>This event is free and open to all adults 19+. Order your copy from the Library today!</p>\n
LOCATION:321 S. Main St. Jefferson\, WI 53549
UID:e.2671.9325
SEQUENCE:3
DTSTAMP:20260425T120130Z
URL:https://business.jeffersonchamberwi.com/events/details/adult-book-group-at-the-jefferson-public-library-9325
END:VEVENT

END:VCALENDAR
