BEGIN:VCALENDAR
VERSION:2.0
PRODID:-//ChamberMaster//Event Calendar 2.0//EN
METHOD:PUBLISH
X-PUBLISHED-TTL:P3D
REFRESH-INTERVAL:P3D
CALSCALE:GREGORIAN
BEGIN:VEVENT
DTSTART:20200216T140000Z
DTEND:20200216T180000Z
X-MICROSOFT-CDO-ALLDAYEVENT:FALSE
SUMMARY:All You Can Eat Breakfast at VFW Recreation Center 2020
DESCRIPTION:All proceeds going to support the Jefferson Cab Riders for the Elderly.
X-ALT-DESC;FMTTYPE=text/html:All proceeds going to support the Jefferson Cab Riders for the Elderly.
LOCATION:VFW Recreation Center 1420 S. Rockwell St. Jefferson\, WI 53549
UID:e.2671.3947
SEQUENCE:3
DTSTAMP:20260425T203522Z
URL:https://business.jeffersonchamberwi.com/events/details/all-you-can-eat-breakfast-at-vfw-recreation-center-2020-3947
END:VEVENT

END:VCALENDAR
