BEGIN:VCALENDAR
VERSION:2.0
PRODID:-//ChamberMaster//Event Calendar 2.0//EN
METHOD:PUBLISH
X-PUBLISHED-TTL:P3D
REFRESH-INTERVAL:P3D
CALSCALE:GREGORIAN
BEGIN:VEVENT
DTSTART:20230430T130000Z
DTEND:20230430T170000Z
X-MICROSOFT-CDO-ALLDAYEVENT:FALSE
SUMMARY:All You Can Eat Breakfast at VFW Recreation Center 2023
DESCRIPTION:Join us for an all you can eat breakfast on Sunday\, April 30th! All proceeds support the Jefferson Cab Rides for the Elderly.
X-ALT-DESC;FMTTYPE=text/html:Join us for an all you can eat breakfast on Sunday\, April 30th! All proceeds support the Jefferson Cab Rides for the Elderly.
LOCATION:VFW Recreation Center 1420 S Rockwell St. Jefferson\, WI 53549
UID:e.2671.6064
SEQUENCE:3
DTSTAMP:20260423T114740Z
URL:https://business.jeffersonchamberwi.com/events/details/all-you-can-eat-breakfast-at-vfw-recreation-center-2023-6064
END:VEVENT

END:VCALENDAR
