BEGIN:VCALENDAR
VERSION:2.0
PRODID:-//ChamberMaster//Event Calendar 2.0//EN
METHOD:PUBLISH
X-PUBLISHED-TTL:P3D
REFRESH-INTERVAL:P3D
CALSCALE:GREGORIAN
BEGIN:VEVENT
DTSTART:20251117T170000Z
DTEND:20251117T174500Z
X-MICROSOFT-CDO-ALLDAYEVENT:FALSE
SUMMARY:Baby Bounce
DESCRIPTION:Baby Bounce features rhymes\, songs\, and a simple book. Baby Time introduces babies to literacy and encourages talking and positive interactions between the baby and the adult. Playtime will follow each session. This will take place in the Youth Department at the Jefferson Public Library.
X-ALT-DESC;FMTTYPE=text/html:<span style="background-color:rgb(255\, 255\, 255)\; font-family:lato\,sans-serif\; font-size:14px">Baby Bounce features rhymes\, songs\, and a simple book. Baby Time introduces babies to literacy and encourages talking and positive interactions between the baby and the adult. Playtime will follow each session. This will take place in the Youth Department at the Jefferson Public Library.&nbsp\;</span>
LOCATION:321 S. Main St. Jefferson\, WI 53549
UID:e.2671.9086
SEQUENCE:3
DTSTAMP:20260425T164422Z
URL:https://business.jeffersonchamberwi.com/events/details/baby-bounce-11-17-2025-9086
END:VEVENT

END:VCALENDAR
