BEGIN:VCALENDAR
VERSION:2.0
PRODID:-//ChamberMaster//Event Calendar 2.0//EN
METHOD:PUBLISH
X-PUBLISHED-TTL:P3D
REFRESH-INTERVAL:P3D
CALSCALE:GREGORIAN
BEGIN:VEVENT
DTSTART:20240522T180000Z
DTEND:20240523T013000Z
X-MICROSOFT-CDO-ALLDAYEVENT:FALSE
SUMMARY:Buddha Belly Pizza Night at Theisen's 2023
DESCRIPTION:Come on down to Theisen's in Jefferson for wood fired sourdough pizza by Buddha Belly Pizza! The food truck will be open from 1pm-8:30pm weekly on Wednesdays!
X-ALT-DESC;FMTTYPE=text/html:<span style="font-size:14px\;">Come on down to Theisen&#39\;s in Jefferson for <strong>wood fired sourdough pizza</strong> by Buddha Belly Pizza! The food truck will be open from 1pm-8:30pm weekly on Wednesdays!</span>
LOCATION:Theisen's Parking Lot 1525 S Ryan Ave
UID:e.2671.6705
SEQUENCE:3
DTSTAMP:20260423T150604Z
URL:https://business.jeffersonchamberwi.com/events/details/buddha-belly-pizza-night-at-theisen-s-05-22-2024-6705
END:VEVENT

END:VCALENDAR
