BEGIN:VCALENDAR
VERSION:2.0
PRODID:-//ChamberMaster//Event Calendar 2.0//EN
METHOD:PUBLISH
X-PUBLISHED-TTL:P3D
REFRESH-INTERVAL:P3D
CALSCALE:GREGORIAN
BEGIN:VEVENT
DTSTART:20200520T220000Z
DTEND:20200521T000000Z
X-MICROSOFT-CDO-ALLDAYEVENT:FALSE
SUMMARY:Business at 5 2020
DESCRIPTION:Chamber members ONLY
X-ALT-DESC;FMTTYPE=text/html:Chamber members ONLY
LOCATION:Area Dental Clinic
UID:e.2671.3951
SEQUENCE:3
DTSTAMP:20260425T160610Z
URL:https://business.jeffersonchamberwi.com/events/details/business-at-5-2020-05-20-2020-3951
END:VEVENT

END:VCALENDAR
