BEGIN:VCALENDAR
VERSION:2.0
PRODID:-//ChamberMaster//Event Calendar 2.0//EN
METHOD:PUBLISH
X-PUBLISHED-TTL:P3D
REFRESH-INTERVAL:P3D
CALSCALE:GREGORIAN
BEGIN:VEVENT
DTSTART:20230411T220000Z
DTEND:20230412T000000Z
X-MICROSOFT-CDO-ALLDAYEVENT:FALSE
SUMMARY:Business at 5 2023
DESCRIPTION:Chamber members and guest are welcome to enjoy an evening of networking\, beverages\, and hors d'oeuvres.
X-ALT-DESC;FMTTYPE=text/html:Chamber members and guest are welcome to enjoy an evening of networking\, beverages\, and hors d&#39\;oeuvres.
LOCATION:111 S. Main St\, Jefferson
UID:e.2671.6046
SEQUENCE:3
DTSTAMP:20260423T113738Z
URL:https://business.jeffersonchamberwi.com/events/details/business-at-5-2023-04-11-2023-6046
END:VEVENT

END:VCALENDAR
