BEGIN:VCALENDAR
VERSION:2.0
PRODID:-//ChamberMaster//Event Calendar 2.0//EN
METHOD:PUBLISH
X-PUBLISHED-TTL:P3D
REFRESH-INTERVAL:P3D
CALSCALE:GREGORIAN
BEGIN:VEVENT
DTSTART;VALUE=DATE:20200424
DTEND;VALUE=DATE:20200427
TRANSP:TRANSPARENT
X-MICROSOFT-CDO-ALLDAYEVENT:TRUE
SUMMARY:CANCELLED 43rd Annual Spring Jefferson Car Show & Auto Swap Meet 2020
DESCRIPTION:CANCELLED 43rd Annual Spring Jefferson Swap Meet & Car Show.\n\nCome browse over 99 acres for classics\, collectibles and parts to find that special piece for your collection. The show features more than 3\,100 vendor spaces and hundreds of cars for sale. The Swap Meet and Car Corral is all three days and the car show is Saturday and Sunday only. The feature cars are Drag Cars\; however\, all makes and models are welcome in the car show. Car show sat/sun only. No pets. For more information please call (608) 244-8416 or visit www.madisonclassics.com.
X-ALT-DESC;FMTTYPE=text/html:<strong><span style="color:#FF0000\;"><span style="font-family: Helvetica\, Arial\, sans-serif\; font-size: 14px\; white-space: pre-wrap\; background-color: rgb(255\, 255\, 255)\;">CANCELLED</span></span></strong><span style="color: rgb(29\, 33\, 41)\; font-family: Helvetica\, Arial\, sans-serif\; font-size: 14px\; white-space: pre-wrap\; background-color: rgb(255\, 255\, 255)\;"> 43rd Annual Spring Jefferson Swap Meet &amp\; Car Show.</span><br style="color: rgb(29\, 33\, 41)\; font-family: Helvetica\, Arial\, sans-serif\; font-size: 14px\; white-space: pre-wrap\; background-color: rgb(255\, 255\, 255)\;" />\n<span style="color: rgb(29\, 33\, 41)\; font-family: Helvetica\, Arial\, sans-serif\; font-size: 14px\; white-space: pre-wrap\; background-color: rgb(255\, 255\, 255)\;">Come browse over 99 acres for classics\, collectibles and parts to find that special piece for your collection. The show features more than 3\,100 vendor spaces and hundreds of cars for sale. The Swap Meet and Car Corral is all three days and the car show is Saturday and Sunday only. The feature cars are Drag Cars\; however\, all makes and models are welcome in the car show. Car show sat/sun only. </span>No pets.&nbsp\;<span style="color: rgb(29\, 33\, 41)\; font-family: Helvetica\, Arial\, sans-serif\; font-size: 14px\; white-space: pre-wrap\;">For more information please call (608) 244-8416 or visit </span><a data-lynx-mode="hover" data-lynx-uri="https://l.facebook.com/l.php?u=http%3A%2F%2Fwww.madisonclassics.com%2F%3Ffbclid%3DIwAR0DjA95ZF2EUv6-z7ZPn5AMW3-nZ7t5gBoyfJPp5q800hYr9W3K24HXT6M&amp\;h=AT0DE7kNKWm7b1CA_uShyHn9vXfka6dgzQdx0VfjDOverHohQF_DEIIFcmENZUTye-mvO1UwUAxtEsWBTd15xEQTMZQZiJ_ZwwzMynN0s0EymmpaGaaLBjtPYtv5MmAwTsC6" href="http://www.madisonclassics.com/?fbclid=IwAR0DjA95ZF2EUv6-z7ZPn5AMW3-nZ7t5gBoyfJPp5q800hYr9W3K24HXT6M" rel="nofollow noopener" style="color: rgb(56\, 88\, 152)\; cursor: pointer\; text-decoration-line: none\; font-family: Helvetica\, Arial\, sans-serif\; font-size: 14px\; white-space: pre-wrap\;" target="_blank">www.madisonclassics.com.</a>
LOCATION:503 N Jackson Ave\, Jefferson WI
UID:e.2671.3952
SEQUENCE:3
DTSTAMP:20260425T191911Z
URL:https://business.jeffersonchamberwi.com/events/details/cancelled-43rd-annual-spring-jefferson-car-show-auto-swap-meet-2020-3952
END:VEVENT

END:VCALENDAR
