BEGIN:VCALENDAR
VERSION:2.0
PRODID:-//ChamberMaster//Event Calendar 2.0//EN
METHOD:PUBLISH
X-PUBLISHED-TTL:P3D
REFRESH-INTERVAL:P3D
CALSCALE:GREGORIAN
BEGIN:VEVENT
DTSTART:20260131T200000Z
DTEND:20260131T220000Z
X-MICROSOFT-CDO-ALLDAYEVENT:FALSE
SUMMARY:Celebration of History - Jefferson County Lodge 9
DESCRIPTION:YOU'RE INVITED! Please join the gentlemen of Jefferson County Lodge #9 on Jan 31st from 2pm - 4pm for a historical celebration of 180 years of Freemasonry in Jefferson\, which will include special guests\, historical presentations\, hors d'doeuvers\, drinks\, and fellowship.
X-ALT-DESC;FMTTYPE=text/html:<u><strong>YOU&#39\;RE INVITED!</strong></u> Please join the gentlemen of Jefferson County Lodge #9 on <u><strong>Jan 31st</strong></u> from <u><strong>2pm - 4pm</strong></u> for a historical celebration of 180 years of Freemasonry in Jefferson\, which will include special guests\, historical presentations\, hors d&#39\;doeuvers\, drinks\, and fellowship.
LOCATION:617 Masonic Blvd Jefferson\, WI 53549
UID:e.2671.9378
SEQUENCE:3
DTSTAMP:20260425T115739Z
URL:https://business.jeffersonchamberwi.com/events/details/celebration-of-history-jefferson-county-lodge-9-9378
END:VEVENT

END:VCALENDAR
