BEGIN:VCALENDAR
VERSION:2.0
PRODID:-//ChamberMaster//Event Calendar 2.0//EN
METHOD:PUBLISH
X-PUBLISHED-TTL:P3D
REFRESH-INTERVAL:P3D
CALSCALE:GREGORIAN
BEGIN:VEVENT
DTSTART:20260505T150000Z
DTEND:20260505T160000Z
X-MICROSOFT-CDO-ALLDAYEVENT:FALSE
SUMMARY:Chair Yoga at the Jefferson Public Library
DESCRIPTION:Experience a gentle form of yoga that is practiced sitting on a chair for support. Please wear comfortable clothing.\n\nHeld in the Library Meeting Room.
X-ALT-DESC;FMTTYPE=text/html:<p>Experience a gentle form of yoga that is practiced sitting on a chair for support. Please wear comfortable clothing.</p>\n\n<p>Held in the Library Meeting Room.</p>\n
LOCATION:321 S. Main St. Jefferson\, WI 53549
UID:e.2671.9507
SEQUENCE:3
DTSTAMP:20260422T135911Z
URL:https://business.jeffersonchamberwi.com/events/details/chair-yoga-at-the-jefferson-public-library-05-05-2026-9507
END:VEVENT

END:VCALENDAR
