BEGIN:VCALENDAR
VERSION:2.0
PRODID:-//ChamberMaster//Event Calendar 2.0//EN
METHOD:PUBLISH
X-PUBLISHED-TTL:P3D
REFRESH-INTERVAL:P3D
CALSCALE:GREGORIAN
BEGIN:VEVENT
DTSTART:20220203T233000Z
DTEND:20220204T023000Z
X-MICROSOFT-CDO-ALLDAYEVENT:FALSE
SUMMARY:Chamber Annual Dinner 2022
DESCRIPTION:2022 Jefferson Chamber of Commerce Annual Dinner\n\n\n\nWe invite our Chamber members\, their employees\, spouses and friends to join us to socialize\, recap 2020 and 2021 and recognize our business community leaders at the largest member-to-member networking event of the year.\n\n\n\nIn addition to the traditional awards\, we are excited to introduce new categories this year.  This year's awards include:\n\n	Business of the Year\n	Businessperson of the Year\n	Chamber Service Award\n	Team Spirit Award\n	Citizen of the Year Award\n\n\n\nRSVP by January 14
X-ALT-DESC;FMTTYPE=text/html:<span style="font-size:18px\;"><span style="color:#000080\;"><span style="font-size:26px\;"><strong><span style="font-family: sans-serif\, Arial\, Verdana\, &quot\;Trebuchet MS&quot\;\; background-color: rgb(255\, 255\, 255)\;">2022 Jefferson Chamber of Commerce Annual Dinner</span></strong></span></span><br />\n<br />\n<span style="color: rgb(51\, 51\, 51)\; font-family: sans-serif\, Arial\, Verdana\, &quot\;Trebuchet MS&quot\;\; background-color: rgb(255\, 255\, 255)\;">We invite our Chamber members\, their employees\, spouses and friends to join us to socialize\, recap 2020 and 2021 and recognize our business community leaders at the largest member-to-member networking event of the year.<br />\n<br />\nIn addition to the traditional awards\, we are excited to introduce new categories this year.&nbsp\; This year&#39\;s awards include:</span></span>\n<ul>\n	<li><span style="font-size:18px\;"><span style="color: rgb(51\, 51\, 51)\; font-family: sans-serif\, Arial\, Verdana\, &quot\;Trebuchet MS&quot\;\; background-color: rgb(255\, 255\, 255)\;">Business of the Year</span></span></li>\n	<li><span style="font-size:18px\;"><span style="color: rgb(51\, 51\, 51)\; font-family: sans-serif\, Arial\, Verdana\, &quot\;Trebuchet MS&quot\;\; background-color: rgb(255\, 255\, 255)\;">Businessperson of the Year</span></span></li>\n	<li><span style="font-size:18px\;">Chamber Service Award</span></li>\n	<li><span style="font-size:18px\;">Team Spirit Award</span></li>\n	<li><span style="font-size:18px\;">Citizen of the Year Award</span></li>\n</ul>\n<br />\n<span style="font-size:18px\;">RSVP by January 14</span>
LOCATION:Jefferson County Fair Park 503 N. Jackson Jefferson
UID:e.2671.4498
SEQUENCE:3
DTSTAMP:20260424T075402Z
URL:https://business.jeffersonchamberwi.com/events/details/chamber-annual-dinner-2022-4498
END:VEVENT

END:VCALENDAR
