BEGIN:VCALENDAR
VERSION:2.0
PRODID:-//ChamberMaster//Event Calendar 2.0//EN
METHOD:PUBLISH
X-PUBLISHED-TTL:P3D
REFRESH-INTERVAL:P3D
CALSCALE:GREGORIAN
BEGIN:VEVENT
DTSTART:20230202T233000Z
DTEND:20230203T023000Z
X-MICROSOFT-CDO-ALLDAYEVENT:FALSE
SUMMARY:Chamber Annual Dinner 2023
DESCRIPTION:2023 Jefferson Chamber of Commerce Annual Dinner\n\n\n\nWe invite our Chamber members\, their employees\, spouses and friends to join us to socialize\, recap 2022 and recognize our business community leaders at the largest member-to-member networking event of the year.\n\n\n\nIn addition to the traditional awards\, we are excited to introduce new categories this year.  This year's awards include:\n\n	Business of the Year\n	Businessperson of the Year\n	Chamber Service Award\n	Team Spirit Award\n	Lifetime Business Achievement Award\n	Citizen of the Year Award\n\nRSVP by January 20
X-ALT-DESC;FMTTYPE=text/html:<span style="font-size:18px\;"><span style="color:#000080\;"><span style="font-size:26px\;"><strong><span style="font-family: sans-serif\, Arial\, Verdana\, &quot\;Trebuchet MS&quot\;\; background-color: rgb(255\, 255\, 255)\;">2023 Jefferson Chamber of Commerce Annual Dinner</span></strong></span></span><br />\n<br />\n<span style="color: rgb(51\, 51\, 51)\; font-family: sans-serif\, Arial\, Verdana\, &quot\;Trebuchet MS&quot\;\; background-color: rgb(255\, 255\, 255)\;">We invite our Chamber members\, their employees\, spouses and friends to join us to socialize\, recap 2022 and recognize our business community leaders at the largest member-to-member networking event of the year.<br />\n<br />\nIn addition to the traditional awards\, we are excited to introduce new categories this year.&nbsp\; This year&#39\;s awards include:</span></span>\n<ul>\n	<li><a href="https://docs.google.com/forms/d/e/1FAIpQLSfnarMBa3S76KAiQvweVcQ4LwkNnT4aJG7ijVYjv9puIXkIwQ/viewform"><span style="font-size:18px\;"><span style="color: rgb(51\, 51\, 51)\; font-family: sans-serif\, Arial\, Verdana\, &quot\;Trebuchet MS&quot\;\; background-color: rgb(255\, 255\, 255)\;">Business o</span></span></a><a href="https://docs.google.com/forms/d/e/1FAIpQLSfnarMBa3S76KAiQvweVcQ4LwkNnT4aJG7ijVYjv9puIXkIwQ/viewform"><span style="font-size:18px\;"><span style="color: rgb(51\, 51\, 51)\; font-family: sans-serif\, Arial\, Verdana\, &quot\;Trebuchet MS&quot\;\; background-color: rgb(255\, 255\, 255)\;">f the Year</span></span></a></li>\n	<li><a href="https://docs.google.com/forms/d/e/1FAIpQLSfnarMBa3S76KAiQvweVcQ4LwkNnT4aJG7ijVYjv9puIXkIwQ/viewform"><span style="font-size:18px\;"><span style="color: rgb(51\, 51\, 51)\; font-family: sans-serif\, Arial\, Verdana\, &quot\;Trebuchet MS&quot\;\; background-color: rgb(255\, 255\, 255)\;">Businessperson of the Year</span></span></a></li>\n	<li><a href="https://docs.google.com/forms/d/e/1FAIpQLSfnarMBa3S76KAiQvweVcQ4LwkNnT4aJG7ijVYjv9puIXkIwQ/viewform"><span style="font-size:18px\;">Chamber Service Award</span></a></li>\n	<li><a href="https://docs.google.com/forms/d/e/1FAIpQLSfnarMBa3S76KAiQvweVcQ4LwkNnT4aJG7ijVYjv9puIXkIwQ/viewform"><span style="font-size:18px\;">Team Spirit Award</span></a></li>\n	<li><a href="https://docs.google.com/forms/d/e/1FAIpQLSfbzeCHsg9yGBcKq57wwgnSFRBIEkDr8e-IVFRCnvap8N8meA/viewform"><span style="font-size:18px\;">Lifetime Business Achievement Award</span></a></li>\n	<li><a href="https://docs.google.com/forms/d/e/1FAIpQLSfM2ICmois84HziKoz012cOgO4aCBRafVRLZDAKwnBJqC8Sjg/viewform"><span style="font-size:18px\;">Citizen of the Year Award</span></a></li>\n</ul>\n<span style="font-size:18px\;">RSVP by January 20</span>
LOCATION:13 East Jefferson Catering by Just Imagine
UID:e.2671.5034
SEQUENCE:3
DTSTAMP:20260423T160735Z
URL:https://business.jeffersonchamberwi.com/events/details/chamber-annual-dinner-2023-5034
END:VEVENT

END:VCALENDAR
