BEGIN:VCALENDAR
VERSION:2.0
PRODID:-//ChamberMaster//Event Calendar 2.0//EN
METHOD:PUBLISH
X-PUBLISHED-TTL:P3D
REFRESH-INTERVAL:P3D
CALSCALE:GREGORIAN
BEGIN:VEVENT
DTSTART:20210723T000000Z
DTEND:20210723T020000Z
X-MICROSOFT-CDO-ALLDAYEVENT:FALSE
SUMMARY:Concerts in the Park 2021
DESCRIPTION:Concerts start at 7pm and take place at Rotary Waterfront Park\, 301 S. Gardner Avenue in downtown Jefferson. Food and beverages will be available for purchase.\n\n\n\nJul 15  The Screamin' Cucumbers\n\nJul 22  Sensations\n\nJul 29  Random Maxx\n\nAug 5  Gimme Skynyrd\n\nAug 12  Jessie Marie & The Rippers\n\nAug 19  Flight "An Eagles Tribute"\n\nAug 26  The Now
X-ALT-DESC;FMTTYPE=text/html:<span style="font-family: &quot\;Open Sans&quot\;\, BlinkMacSystemFont\, -apple-system\, &quot\;Segoe UI&quot\;\, Roboto\, Helvetica\, Arial\, sans-serif\; font-size: 16px\; background-color: rgb(255\, 255\, 255)\;">Concerts start at 7pm and take place at Rotary Waterfront Park\, 301 S. Gardner Avenue in downtown Jefferson. Food and beverages will be available for purchase.<br />\n<br />\nJul 15&nbsp\; The Screamin&#39\; Cucumbers<br />\nJul 22&nbsp\; Sensations<br />\nJul 29&nbsp\; Random Maxx<br />\nAug 5&nbsp\; Gimme Skynyrd<br />\nAug 12&nbsp\; Jessie Marie &amp\; The Rippers<br />\nAug 19&nbsp\; Flight &quot\;An Eagles Tribute&quot\;<br />\nAug 26&nbsp\; The Now</span>
LOCATION:Rotary Park
UID:e.2671.4264
SEQUENCE:3
DTSTAMP:20260424T182711Z
URL:https://business.jeffersonchamberwi.com/events/details/concerts-in-the-park-07-22-2021-4264
END:VEVENT

END:VCALENDAR
