BEGIN:VCALENDAR
VERSION:2.0
PRODID:-//ChamberMaster//Event Calendar 2.0//EN
METHOD:PUBLISH
X-PUBLISHED-TTL:P3D
REFRESH-INTERVAL:P3D
CALSCALE:GREGORIAN
BEGIN:VEVENT
DTSTART:20220819T000000Z
DTEND:20220819T020000Z
X-MICROSOFT-CDO-ALLDAYEVENT:FALSE
SUMMARY:Concerts in the Park 2022
DESCRIPTION:Presented by Jefferson Live Music Foundation\n\nConcerts start at 7pm and take place at Rotary Waterfront Park\,\n\n301 S. Gardner Avenue in downtown Jefferson.\n\nFood and beverages will be available for purchase.
X-ALT-DESC;FMTTYPE=text/html:Presented by Jefferson Live Music Foundation<br />\nConcerts start at 7pm and take place at Rotary Waterfront Park\,<br />\n301 S. Gardner Avenue in downtown Jefferson.<br />\nFood and beverages will be available for purchase.
LOCATION:Rotary Waterfront Park 301 S. Gardner Avenue in Downtown Jefferson
UID:e.2671.4806
SEQUENCE:3
DTSTAMP:20260424T010235Z
URL:https://business.jeffersonchamberwi.com/events/details/concerts-in-the-park-08-18-2022-4806
END:VEVENT

END:VCALENDAR
