BEGIN:VCALENDAR
VERSION:2.0
PRODID:-//ChamberMaster//Event Calendar 2.0//EN
METHOD:PUBLISH
X-PUBLISHED-TTL:P3D
REFRESH-INTERVAL:P3D
CALSCALE:GREGORIAN
BEGIN:VEVENT
DTSTART:20191208T003000Z
DTEND:20191208T020000Z
X-MICROSOFT-CDO-ALLDAYEVENT:FALSE
SUMMARY:Cookies with Santa 2019
DESCRIPTION:Visit Santa after the Holiday Parade to tell him your wish list for Christmas.  Kids can also color holiday pictures\, write a letter to Santa and decorate a cookie.
X-ALT-DESC;FMTTYPE=text/html:Visit Santa after the Holiday Parade to tell him your wish list for Christmas.&nbsp\; Kids can also color holiday pictures\, write a letter to Santa and decorate a cookie.&nbsp\;
LOCATION:Jefferson Chamber of Commerce Building InSite Office 230 S. Main St.\, Jefferson
UID:e.2671.3910
SEQUENCE:3
DTSTAMP:20260426T004400Z
URL:https://business.jeffersonchamberwi.com/events/details/cookies-with-santa-2019-3910
END:VEVENT

END:VCALENDAR
