BEGIN:VCALENDAR
VERSION:2.0
PRODID:-//ChamberMaster//Event Calendar 2.0//EN
METHOD:PUBLISH
X-PUBLISHED-TTL:P3D
REFRESH-INTERVAL:P3D
CALSCALE:GREGORIAN
BEGIN:VEVENT
DTSTART:20191207T160000Z
DTEND:20191207T220000Z
X-MICROSOFT-CDO-ALLDAYEVENT:FALSE
SUMMARY:Country Christmas 2019
DESCRIPTION:SANTA IS COMING!\n\n1:00-4:00: Free Candy Canes & Jones Holiday Coloring Storybook\n\nEvery 30 minutes between 1:00-4:00: Story time with Santa and Pork Chop Jones is Santa's Helper\n\nKids Activity: Free Christmas Ornament Craft\n\nLive Music (10am-12pm) by the Fort Atkinson High School Chamber Orchestra\n\nHoliday Gift Boxes: Box Your Own & Premade Options\n\nFull Breakfast & Lunch Menu\n\nEvent Special: Chili in a Bread Bowl\n\nSundae of the Month: Peppermint Stick\n\nHot Beverages: Cocoa\, Coffee\, & Tea
X-ALT-DESC;FMTTYPE=text/html:SANTA IS COMING!<br />\n1:00-4:00: Free Candy Canes &amp\; Jones Holiday Coloring Storybook<br />\nEvery 30 minutes between 1:00-4:00: Story time with Santa and Pork Chop Jones is Santa&#39\;s Helper<br />\nKids Activity: Free Christmas Ornament Craft<br />\nLive Music (10am-12pm) by the Fort Atkinson High School Chamber Orchestra<br />\nHoliday Gift Boxes: Box Your Own &amp\; Premade Options<br />\nFull Breakfast &amp\; Lunch Menu<br />\nEvent Special: Chili in a Bread Bowl<br />\nSundae of the Month: Peppermint Stick<br />\nHot Beverages: Cocoa\, Coffee\, &amp\; Tea<br />\n&nbsp\;
LOCATION:Jones Market 601 Jones Ave Fort Atkinson\, WI 53538 (920) 563-2963
UID:e.2671.3923
SEQUENCE:3
DTSTAMP:20260426T004210Z
URL:https://business.jeffersonchamberwi.com/events/details/country-christmas-2019-3923
END:VEVENT

END:VCALENDAR
