BEGIN:VCALENDAR
VERSION:2.0
PRODID:-//ChamberMaster//Event Calendar 2.0//EN
METHOD:PUBLISH
X-PUBLISHED-TTL:P3D
REFRESH-INTERVAL:P3D
CALSCALE:GREGORIAN
BEGIN:VEVENT
DTSTART:20241125T220000Z
DTEND:20241125T230000Z
X-MICROSOFT-CDO-ALLDAYEVENT:FALSE
SUMMARY:Dino Party! at the Jefferson Public Library 2024
DESCRIPTION:Join us for a dinosaur themed party with "real-life" dinosaurs! There will be games\, crafts and snacks. Special Guest: Dinosaur Dimensions! Meet these realistic dinosaurs as they venture around the party. All ages are welcome. Held in the Library Meeting Room.\nThe Jefferson Public Library is committed to ensuring that our programs and resources are accessible to everyone. \n\nTo request reasonable accommodations for a program\, please contact the Library at (920) 674-7733 or email at information@jeffersonwilibrary.org at least 1 week before the program date.
X-ALT-DESC;FMTTYPE=text/html:Join us for a dinosaur themed party with &quot\;real-life&quot\; dinosaurs! There will be games\, crafts and snacks. Special Guest: Dinosaur Dimensions! Meet these realistic dinosaurs as they venture around the party. All ages are welcome. Held in the Library Meeting Room.\n<p>The Jefferson Public Library is committed to ensuring that our programs and resources are accessible to everyone.&nbsp\;</p>\n\n<p>To request reasonable accommodations for a program\, please contact the Library at (920) 674-7733 or email at information@jeffersonwilibrary.org at least 1 week before the program date.</p>\n
LOCATION:
UID:e.2671.8701
SEQUENCE:3
DTSTAMP:20260423T222526Z
URL:https://business.jeffersonchamberwi.com/events/details/dino-party-at-the-jefferson-public-library-2024-8701
END:VEVENT

END:VCALENDAR
