BEGIN:VCALENDAR
VERSION:2.0
PRODID:-//ChamberMaster//Event Calendar 2.0//EN
METHOD:PUBLISH
X-PUBLISHED-TTL:P3D
REFRESH-INTERVAL:P3D
CALSCALE:GREGORIAN
BEGIN:VEVENT
DTSTART:20240611T180000Z
DTEND:20240611T203000Z
X-MICROSOFT-CDO-ALLDAYEVENT:FALSE
SUMMARY:Donuts + Art at Jefferson Public Library 2024
DESCRIPTION:Follow a step by step guide to create a masterpiece all while enjoying delicious donuts from Bon Ton Bakery!\n\n \n\nThis program is for those aged 12-18.\n\nThe program will begin at 1:00pm. Participants can be dropped off between 12:45pm-1pm to allow time to set up their station. Participants can be picked up beginning at 3:30pm. We will try our best to end on time\, but it may run over slightly. All materials will be provided for the participants.\n\n \n\nAttendance is limited to 15 teens. Registration is required to attend.
X-ALT-DESC;FMTTYPE=text/html:<div>Follow a step by step guide to create a masterpiece all while enjoying delicious donuts from Bon Ton Bakery!</div>\n\n<div>&nbsp\;</div>\n\n<div><strong>This program is for those aged 12-18.</strong></div>\n\n<div>The program will begin at 1:00pm. Participants can be dropped off between 12:45pm-1pm to allow time to set up their station. Participants can be picked up beginning at 3:30pm. We will try our best to end on time\, but it may run over slightly. All materials will be provided for the participants.</div>\n\n<div>&nbsp\;</div>\n\n<div>Attendance is limited to 15 teens. Registration is required to attend.</div>\n
LOCATION:
UID:e.2671.7219
SEQUENCE:3
DTSTAMP:20260423T161023Z
URL:https://business.jeffersonchamberwi.com/events/details/donuts-art-at-jefferson-public-library-2024-7219
END:VEVENT

END:VCALENDAR
