BEGIN:VCALENDAR
VERSION:2.0
PRODID:-//ChamberMaster//Event Calendar 2.0//EN
METHOD:PUBLISH
X-PUBLISHED-TTL:P3D
REFRESH-INTERVAL:P3D
CALSCALE:GREGORIAN
BEGIN:VEVENT
DTSTART:20191104T230000Z
DTEND:20191105T010000Z
X-MICROSOFT-CDO-ALLDAYEVENT:FALSE
SUMMARY:FOCUS Coworking Expansion Grand Opening 2019
DESCRIPTION:FOCUS Coworking has expanded to the 2nd floor. We now have even more great workspace options available including shared space\, dedicated desks\, and private offices. Join us for the grand opening of the 2nd floor. There will be food\, drinks\, networking\, and tours of the new space.
X-ALT-DESC;FMTTYPE=text/html:<span style="background-color:rgb(244\, 245\, 247)\; color:rgb(23\, 43\, 77)\; font-family:-apple-system\,system-ui\,segoe ui\,roboto\,oxygen\,ubuntu\,fira sans\,droid sans\,helvetica neue\,sans-serif\; font-size:14px">FOCUS Coworking has expanded to the 2nd floor. We now have even more great workspace options available including shared space\, dedicated desks\, and private offices. Join us for the grand opening of the 2nd floor. There will be food\, drinks\, networking\, and tours of the new space.</span>
LOCATION:FOCUS Coworking
UID:e.2671.3905
SEQUENCE:3
DTSTAMP:20260426T005430Z
URL:https://business.jeffersonchamberwi.com/events/details/focus-coworking-expansion-grand-opening-2019-3905
END:VEVENT

END:VCALENDAR
