BEGIN:VCALENDAR
VERSION:2.0
PRODID:-//ChamberMaster//Event Calendar 2.0//EN
METHOD:PUBLISH
X-PUBLISHED-TTL:P3D
REFRESH-INTERVAL:P3D
CALSCALE:GREGORIAN
BEGIN:VEVENT
DTSTART:20200222T160000Z
DTEND:20200222T180000Z
X-MICROSOFT-CDO-ALLDAYEVENT:FALSE
SUMMARY:Four on the Floor Workshop 2020
DESCRIPTION:In partnership with the Lake Mills Veterinary Clinic\, the Humane Society of Jefferson County is offering a free workshop on Saturday\, February 22\, in the shelter's Community Education Room.\n\nIf your dog is "gravity challenged\," this class will help you learn how to teach your pooch to keep all four paws on the floor. Some dogs jump on people as a form of greeting or to seek attention. They can also act like pogo sticks when they get excited\, especially about visitors. Since we can't ask our dogs why they jump at our faces\, we can only take our best guess as to the reason for this behavior. The more often they are allowed to jump up\, the stronger the behavior becomes. Although they mean well\, an enthusiastic jumping dog can knock over small children\, tear clothing\, and even cause injury.\n\nThe Four on the Floor workshop takes place from 10:00 a.m. to 12:00 p.m.\, with sessions every half hour. Each session is limited to ten participants and advance registration is required. Please call 920-674-2048 to reserve your spot. Dogs must be people friendly\, dog friendly\, current on vaccinations\, and leashed with a non-retractable leash.\n\nThere is no fee to attend this fun and informative workshop\, but donations are greatly appreciated.\n\n \n\nAbout The Humane Society of Jefferson County\n\nThe Humane Society of Jefferson County (HSJC) has been serving the community since 1922.  HSJC provides life-saving services for abandoned\, stray\, and surrendered animals as well as a wide range of community animal services and humane education.  Each year the HSJC helps save\, serve\, and provide forever homes to more than 1\,000 animals in need.\n\n \n\nFor more information\, please contact Taylor Marshall\, Community Outreach Coordinator\, at TMarshall@HSJC-wis.com or Jeff Okazaki\, Executive Director\, at Jeff@HSJC-wis.com or call 920-674-2048.
X-ALT-DESC;FMTTYPE=text/html:In partnership with the Lake Mills Veterinary Clinic\, the Humane Society of Jefferson County is offering a free workshop on Saturday\, February 22\, in the shelter&rsquo\;s Community Education Room.<br />\nIf your dog is &ldquo\;gravity challenged\,&rdquo\; this class will help you learn how to teach your pooch to keep all four paws on the floor. Some dogs jump on people as a form of greeting or to seek attention. They can also act like pogo sticks when they get excited\, especially about visitors. Since we can&rsquo\;t ask our dogs why they jump at our faces\, we can only take our best guess as to the reason for this behavior. The more often they are allowed to jump up\, the stronger the behavior becomes. Although they mean well\, an enthusiastic jumping dog can knock over small children\, tear clothing\, and even cause injury.<br />\nThe Four on the Floor workshop takes place from 10:00 a.m. to 12:00 p.m.\, with sessions every half hour. Each session is limited to ten participants and advance registration is required. Please call 920-674-2048 to reserve your spot. Dogs must be people friendly\, dog friendly\, current on vaccinations\, and leashed with a non-retractable leash.<br />\nThere is no fee to attend this fun and informative workshop\, but donations are greatly appreciated.<br />\n&nbsp\;<br />\n<strong>About The Humane Society of Jefferson County</strong><br />\nThe Humane Society of Jefferson County (HSJC) has been serving the community since 1922.&nbsp\; HSJC provides life-saving services for abandoned\, stray\, and surrendered animals as well as a wide range of community animal services and humane education.&nbsp\; Each year the HSJC helps save\, serve\, and provide forever homes to more than 1\,000 animals in need.<br />\n&nbsp\;<br />\n<em>For more information\, please contact Taylor Marshall\, Community Outreach Coordinator\, at </em><a href="mailto:TMarshall@HSJC-wis.com"><em>TMarshall@HSJC-wis.com</em></a><em> or Jeff Okazaki\, Executive Director\, at </em><a href="mailto:Jeff@HSJC-wis.com"><em>Jeff@HSJC-wis.com</em></a><em> or call 920-674-2048.</em>
LOCATION:Humane Society of Jefferson County
UID:e.2671.3938
SEQUENCE:3
DTSTAMP:20260425T203018Z
URL:https://business.jeffersonchamberwi.com/events/details/four-on-the-floor-workshop-2020-3938
END:VEVENT

END:VCALENDAR
