BEGIN:VCALENDAR
VERSION:2.0
PRODID:-//ChamberMaster//Event Calendar 2.0//EN
METHOD:PUBLISH
X-PUBLISHED-TTL:P3D
REFRESH-INTERVAL:P3D
CALSCALE:GREGORIAN
BEGIN:VEVENT
DTSTART:20200416T150000Z
DTEND:20200416T200000Z
X-MICROSOFT-CDO-ALLDAYEVENT:FALSE
SUMMARY:Freemasons Sponsor Red Cross Blood Drive 2020
DESCRIPTION:Freemasons of Jefferson County Lodge #9 are partnering with American Red Cross to sponsor a blood drive in support of Red Cross efforts to provide much needed blood in the fight against COVID-19.
X-ALT-DESC;FMTTYPE=text/html:Freemasons of Jefferson County Lodge #9 are partnering with American Red Cross to sponsor a blood drive in support of Red Cross efforts to provide much needed blood in the fight against COVID-19.&nbsp\;&nbsp\;
LOCATION:Jefferson County Masonic Lodge 617 Masonic Dr.\, Jefferson
UID:e.2671.4095
SEQUENCE:3
DTSTAMP:20260425T175241Z
URL:https://business.jeffersonchamberwi.com/events/details/freemasons-sponsor-red-cross-blood-drive-2020-4095
END:VEVENT

END:VCALENDAR
