BEGIN:VCALENDAR
VERSION:2.0
PRODID:-//ChamberMaster//Event Calendar 2.0//EN
METHOD:PUBLISH
X-PUBLISHED-TTL:P3D
REFRESH-INTERVAL:P3D
CALSCALE:GREGORIAN
BEGIN:VEVENT
DTSTART:20240503T140000Z
DTEND:20240503T220000Z
X-MICROSOFT-CDO-ALLDAYEVENT:FALSE
SUMMARY:Friends of the Jefferson Public Library Book Sale 2024
DESCRIPTION:Friends of the Jefferson Public Library Book Sale\, May 2   May 4 \n\n\n\nMay 2\, 9am-7pm\, May 3\, 9am-5pm\, May 4\, 9am-2pm \n\n\n\nStop by and peruse the large selection of books\, DVDs\, music\, and more at the Friends of the Jefferson Public Library Book Sale. Held in the Library Meeting Rooms.
X-ALT-DESC;FMTTYPE=text/html:<div>\n<p><strong>Friends of the Jefferson Public Library Book Sale\, May 2 &ndash\; May 4</strong><span style="font-family:times new roman\,times new roman_embeddedfont\,times new roman_msfontservice\,serif\; font-size:12pt">&nbsp\;</span></p>\n</div>\n\n<div>\n<p><strong>May 2\, 9am-7pm\, May 3\, 9am-5pm\, May 4\, 9am-2pm</strong><span style="font-family:times new roman\,times new roman_embeddedfont\,times new roman_msfontservice\,serif\; font-size:12pt">&nbsp\;</span></p>\n</div>\n\n<div>\n<p><span style="font-family:times new roman\,times new roman_embeddedfont\,times new roman_msfontservice\,serif\; font-size:12pt">Stop by and peruse the large selection of books\, DVDs\, music\, and more at the Friends of the Jefferson Public Library Book Sale. Held in the Library Meeting Rooms.&nbsp\;</span><span style="font-family:times new roman\,times new roman_embeddedfont\,times new roman_msfontservice\,serif\; font-size:12pt">&nbsp\;</span></p>\n</div>\n
LOCATION:
UID:e.2671.7175
SEQUENCE:3
DTSTAMP:20260423T150908Z
URL:https://business.jeffersonchamberwi.com/events/details/friends-of-the-jefferson-public-library-book-sale-2024-05-03-2024-7175
END:VEVENT

END:VCALENDAR
