BEGIN:VCALENDAR
VERSION:2.0
PRODID:-//ChamberMaster//Event Calendar 2.0//EN
METHOD:PUBLISH
X-PUBLISHED-TTL:P3D
REFRESH-INTERVAL:P3D
CALSCALE:GREGORIAN
BEGIN:VEVENT
DTSTART:20260501T140000Z
DTEND:20260501T213000Z
X-MICROSOFT-CDO-ALLDAYEVENT:FALSE
SUMMARY:Friends of the Jefferson Public Library Book Sale
DESCRIPTION:Friends of the Jefferson Public Library Spring Book Sale:\n\nThursday\, April 30: 9-7:30pm\n\nFriday\, May 1: 9-4:30pm\n\nSaturday\, May 2: 9-1:30pm\n\n \n\n$5 bag sale all day Friday & Saturday.\n\nHeld in the meeting rooms.
X-ALT-DESC;FMTTYPE=text/html:<p>Friends of the Jefferson Public Library Spring Book Sale:</p>\n\n<p>Thursday\, April 30: 9-7:30pm</p>\n\n<p>Friday\, May 1: 9-4:30pm</p>\n\n<p>Saturday\, May 2: 9-1:30pm</p>\n\n<p>&nbsp\;</p>\n\n<p>$5 bag sale all day Friday &amp\; Saturday.</p>\n\n<p>Held in the meeting rooms.</p>\n\n<p>&nbsp\;</p>\n
LOCATION:
UID:e.2671.9515
SEQUENCE:3
DTSTAMP:20260422T140131Z
URL:https://business.jeffersonchamberwi.com/events/details/friends-of-the-jefferson-public-library-book-sale-9515
END:VEVENT

END:VCALENDAR
