BEGIN:VCALENDAR
VERSION:2.0
PRODID:-//ChamberMaster//Event Calendar 2.0//EN
METHOD:PUBLISH
X-PUBLISHED-TTL:P3D
REFRESH-INTERVAL:P3D
CALSCALE:GREGORIAN
BEGIN:VEVENT
DTSTART:20241113T000000Z
DTEND:20241113T010000Z
X-MICROSOFT-CDO-ALLDAYEVENT:FALSE
SUMMARY:Friends of the Jefferson Public Library Meeting 2024
DESCRIPTION:Interested in helping your community's library? The Friends of the Jefferson Public Library may be the right place for you. You can pick up a membership application at the library. The November meeting is on Tuesday\, November 12 at 6pm in the Library Meeting Room.
X-ALT-DESC;FMTTYPE=text/html:<span style="color:rgb(68\, 68\, 68)\; font-family:lato\,sans-serif\; font-size:16px">Interested in helping your community&#39\;s library? The Friends of the Jefferson Public Library may be the right place for you. You can pick up a membership application at the library. The November meeting is on Tuesday\, November 12 at 6pm in the Library Meeting Room.&nbsp\;</span>
LOCATION:
UID:e.2671.8711
SEQUENCE:3
DTSTAMP:20260423T222835Z
URL:https://business.jeffersonchamberwi.com/events/details/friends-of-the-jefferson-public-library-meeting-2024-11-12-2024-8711
END:VEVENT

END:VCALENDAR
