BEGIN:VCALENDAR
VERSION:2.0
PRODID:-//ChamberMaster//Event Calendar 2.0//EN
METHOD:PUBLISH
X-PUBLISHED-TTL:P3D
REFRESH-INTERVAL:P3D
CALSCALE:GREGORIAN
BEGIN:VEVENT
DTSTART:20240611T230000Z
DTEND:20240612T000000Z
X-MICROSOFT-CDO-ALLDAYEVENT:FALSE
SUMMARY:Friends of the Jefferson Public Library Monthly Meeting 2024
DESCRIPTION:Do you love the Library? Looking for a way to volunteer and give back to the community? The Friends of the Jefferson Public Library are looking for new members! Come to the next meeting in the library meeting room or stop by the Library to speak with a staff member to find out how to join.
X-ALT-DESC;FMTTYPE=text/html:<span style="color:rgb(20\, 24\, 39)\; font-family:helvetica neue\,helvetica\,-apple-system\,blinkmacsystemfont\,roboto\,arial\,sans-serif\; font-size:18px">Do you love the Library?&nbsp\;Looking for a way to volunteer and give back to the community?&nbsp\;The Friends of the Jefferson Public Library are looking for new members! Come to the next meeting in the library meeting room or stop by the Library to speak with a staff member to find out how to join.</span>
LOCATION:
UID:e.2671.7262
SEQUENCE:3
DTSTAMP:20260423T162310Z
URL:https://business.jeffersonchamberwi.com/events/details/friends-of-the-jefferson-public-library-monthly-meeting-2024-06-11-2024-7262
END:VEVENT

END:VCALENDAR
