BEGIN:VCALENDAR
VERSION:2.0
PRODID:-//ChamberMaster//Event Calendar 2.0//EN
METHOD:PUBLISH
X-PUBLISHED-TTL:P3D
REFRESH-INTERVAL:P3D
CALSCALE:GREGORIAN
BEGIN:VEVENT
DTSTART:20221022T223000Z
DTEND:20221023T023000Z
X-MICROSOFT-CDO-ALLDAYEVENT:FALSE
SUMMARY:Fur Ball 2022
DESCRIPTION:The Humane Society of Jefferson County requests the pleasure of your company at THE GREAT CATSBY AND CO.s\n\nROMANTIC ROARING 20's FUR  BALL\nWHY: To celebrate the HSJC's 100th anniversary and raise funds for our shelter animals.\n\nEVENTS: Dinner\, drinks\, contests\, raffles\, online silent auction\, live auction\, and more!
X-ALT-DESC;FMTTYPE=text/html:The Humane Society of Jefferson County requests the pleasure of your company at THE GREAT CATSBY AND CO.s<br />\nROMANTIC ROARING 20&#39\;s FUR&nbsp\; BALL\n<p style="box-sizing: border-box\; margin: 0px 0px 20px\; padding: 0px\; outline: none\; line-height: 1.7\; color: rgb(0\, 0\, 0)\; font-family: Lato\, sans-serif\; font-size: 15px\;"><strong style="box-sizing: border-box\; margin: 0px\; padding: 0px\; outline: none\;">WHY:&nbsp\;</strong>To celebrate the HSJC&rsquo\;s 100th anniversary and raise funds for our shelter animals.</p>\n\n<p style="box-sizing: border-box\; margin: 0px 0px 20px\; padding: 0px\; outline: none\; line-height: 1.7\; color: rgb(0\, 0\, 0)\; font-family: Lato\, sans-serif\; font-size: 15px\;"><strong style="box-sizing: border-box\; margin: 0px\; padding: 0px\; outline: none\;">EVENTS:&nbsp\;</strong>Dinner\, drinks\, contests\, raffles\, online silent auction\, live auction\, and more!</p>\n
LOCATION:Creamy 201 at 201 N. Main St\, Fort Atkinson
UID:e.2671.4855
SEQUENCE:3
DTSTAMP:20260423T202631Z
URL:https://business.jeffersonchamberwi.com/events/details/fur-ball-2022-4855
END:VEVENT

END:VCALENDAR
