BEGIN:VCALENDAR
VERSION:2.0
PRODID:-//ChamberMaster//Event Calendar 2.0//EN
METHOD:PUBLISH
X-PUBLISHED-TTL:P3D
REFRESH-INTERVAL:P3D
CALSCALE:GREGORIAN
BEGIN:VEVENT
DTSTART;VALUE=DATE:20210917
DTEND;VALUE=DATE:20210920
TRANSP:TRANSPARENT
X-MICROSOFT-CDO-ALLDAYEVENT:TRUE
SUMMARY:Gemuetlichkeit Days 50th Annual 2021
DESCRIPTION:Gemuetlichkeit Days is celebrating its 50th year! Gemuetlichkeit means good times\, good fun and good fellowship. Enjoy great music\, German food\, German costumes and enter the contests going on throughout the weekend.\n\nThe parade will take place on Sunday\, September 19th at noon.\n\n\n\nFor a full list of events\, visit: gdays.org
X-ALT-DESC;FMTTYPE=text/html:<span style="font-size:18px\;"><span style="font-family:arial\;"><span style="color: rgb(102\, 102\, 102)\; white-space: pre-wrap\;">Gemuetlichkeit Days is celebrating its 50th year! Gemuetlichkeit means good times\, good fun and good fellowship. Enjoy great music\, German food\, German costumes and enter the contests going on throughout the weekend.<br />\nThe parade will take place on Sunday\, September 19th at noon.<br />\n<br />\nFor a full list of events\, visit: </span></span><a href="https://gdays.org/"><span style="color:#0000FF\;">gdays.org</span></a></span>
LOCATION:Gemuetlichkeit Days is held at the Jefferson County Fair Park\, 503 N Jackson Ave\, Jefferson WI 53549 the second weekend after Labor Day each year.
UID:e.2671.4230
SEQUENCE:3
DTSTAMP:20260424T160256Z
URL:https://business.jeffersonchamberwi.com/events/details/gemuetlichkeit-days-50th-annual-2021-4230
END:VEVENT

END:VCALENDAR
