BEGIN:VCALENDAR
VERSION:2.0
PRODID:-//ChamberMaster//Event Calendar 2.0//EN
METHOD:PUBLISH
X-PUBLISHED-TTL:P3D
REFRESH-INTERVAL:P3D
CALSCALE:GREGORIAN
BEGIN:VEVENT
DTSTART:20240904T223000Z
DTEND:20240905T000000Z
X-MICROSOFT-CDO-ALLDAYEVENT:FALSE
SUMMARY:Gemuetlichkeit Family Fun Night
DESCRIPTION:Gemuetlichkeit Family Fun Night will be on Wednesday\, Spetember 4th from 5:30-7pm at Rotary Park!\n\n\n\nKick off the beginning of the Gemuetlichkeit festivities with us. There will be games\, crafts\, activities\, and more!\n\n\n\nFood and beverages will be available for purchase\, too! All proceeds will benefit the Friends of the Jefferson Public Library.
X-ALT-DESC;FMTTYPE=text/html:<div>\n<div>Gemuetlichkeit Family Fun Night will be on Wednesday\, Spetember 4th from 5:30-7pm at Rotary Park!</div>\n</div>\n\n<div>\n<div>Kick off the beginning of the Gemuetlichkeit festivities with us. There will be games\, crafts\, activities\, and more!</div>\n</div>\n\n<div>\n<div>Food and beverages will be available for purchase\, too! All proceeds will benefit the Friends of the Jefferson Public Library.</div>\n</div>\n
LOCATION:
UID:e.2671.8427
SEQUENCE:3
DTSTAMP:20260423T191859Z
URL:https://business.jeffersonchamberwi.com/events/details/gemuetlichkeit-family-fun-night-09-04-2024-8427
END:VEVENT

END:VCALENDAR
