BEGIN:VCALENDAR
VERSION:2.0
PRODID:-//ChamberMaster//Event Calendar 2.0//EN
METHOD:PUBLISH
X-PUBLISHED-TTL:P3D
REFRESH-INTERVAL:P3D
CALSCALE:GREGORIAN
BEGIN:VEVENT
DTSTART:20221008T210000Z
DTEND:20221008T233000Z
X-MICROSOFT-CDO-ALLDAYEVENT:FALSE
SUMMARY:Go Pack Go board painting at Stable Rock Winery
DESCRIPTION:Grab a friend or two and join us at this fun Paint and Sip event. We will be creating this fun Go Pack Go wood board at the lovely Stable Rock Winery in Jefferson WI.\n\n\n\nSet Apart Art Studio will lead you step by step in the creation process. All supplies are provided\, and no experience is necessary.\n\n\n\nThe boards are roughly 14 in x 14 in. and participants will get to choose 3 wood flowers to attach to their board.\n\n\n\nThese boards would be a festive addition to your home or make as a gift to the Packer fan in your life.\n\n\n\n$45.00.\n\nTickets: https://www.eventbrite.com/e/go-pack-go-board-tickets-409858918057
X-ALT-DESC;FMTTYPE=text/html:Grab a friend or two and join us at this fun Paint and Sip event. We will be creating this fun Go Pack Go wood board at the lovely Stable Rock Winery in Jefferson WI.<br />\n<br />\nSet Apart Art Studio will lead you step by step in the creation process. All supplies are provided\, and no experience is necessary.<br />\n<br />\nThe boards are roughly 14 in x 14 in. and participants will get to choose 3 wood flowers to attach to their board.<br />\n<br />\nThese boards would be a festive addition to your home or make as a gift to the Packer fan in your life.<br />\n<br />\n$45.00.<br />\nTickets: https://www.eventbrite.com/e/go-pack-go-board-tickets-409858918057
LOCATION:Stable Rock Winery & Distillery 123 W Milwaukee St\, Jefferson\, WI 53549
UID:e.2671.4864
SEQUENCE:3
DTSTAMP:20260423T202932Z
URL:https://business.jeffersonchamberwi.com/events/details/go-pack-go-board-painting-at-stable-rock-winery-4864
END:VEVENT

END:VCALENDAR
