BEGIN:VCALENDAR
VERSION:2.0
PRODID:-//ChamberMaster//Event Calendar 2.0//EN
METHOD:PUBLISH
X-PUBLISHED-TTL:P3D
REFRESH-INTERVAL:P3D
CALSCALE:GREGORIAN
BEGIN:VEVENT
DTSTART:20210814T170000Z
DTEND:20210815T033000Z
X-MICROSOFT-CDO-ALLDAYEVENT:FALSE
SUMMARY:Goat Fest 2021
DESCRIPTION:Join us for this family friendly community event with food\, music\, games and GOATS!  Meet the goats of Goat Island\, enjoy live music\, kids activities\, and the highlight of the day - the Milwaukee Brewers Sausage & Goat Race!\n\n\n\nLive Music\n\nNoon    VanEskes\n\n3:00p    Swing Crew w/ Steve Meisner\n\n6:30p    Bree Morgan Reloaded\n\n\n\nMilwaukee Brewers Mascots Sausage & Goat Races\n\n4:00p    Featuring the famous Racing Sausages\, Bernie Brewer & Barrelman\n\n\n\nFest Faves\n\nPet the Goats\n\n$1\,000 Cash Raffle Drawing\n\nCar Show\n\nFood Truck\n\nCorn Stand\n\nMerchanidise\n\nCorn Hole\n\n\n\nContact 920-728-1812 to purchase Raffle Tickets
X-ALT-DESC;FMTTYPE=text/html:<p 0px="" background-color:="" color:="" float:="" font-size:="" line-height:="" margin:="" padding:="" roboto="" style="box-sizing: border-box\; font-family: ">Join us for this family friendly community event with food\, music\, games and GOATS!&nbsp\; Meet the goats of Goat Island\, enjoy live music\, kids activities\, and the highlight of the day - the Milwaukee Brewers Sausage &amp\; Goat Race!<br />\n<br />\n<u><strong>Live Music</strong></u><br />\nNoon&nbsp\; &nbsp\; VanEskes<br />\n3:00p&nbsp\; &nbsp\; Swing Crew w/ Steve Meisner<br />\n6:30p&nbsp\; &nbsp\; Bree Morgan Reloaded<br />\n<br />\n<u><strong>Milwaukee Brewers Mascots Sausage &amp\; Goat Races</strong></u><br />\n4:00p&nbsp\;&nbsp\;&nbsp\;&nbsp\;Featuring the famous Racing Sausages\, Bernie Brewer &amp\; Barrelman<br />\n<br />\n<u><strong>Fest Faves</strong></u><br />\nPet the Goats<br />\n$1\,000 Cash Raffle Drawing<br />\nCar Show<br />\nFood Truck<br />\nCorn Stand<br />\nMerchanidise<br />\nCorn Hole<br />\n<br />\nContact 920-728-1812 to purchase Raffle Tickets</p>\n
LOCATION:Rotary Park\, Jefferson (301 S. Gardner Street) | Facebook: Friends of Goat Island
UID:e.2671.4253
SEQUENCE:3
DTSTAMP:20260424T170230Z
URL:https://business.jeffersonchamberwi.com/events/details/goat-fest-2021-4253
END:VEVENT

END:VCALENDAR
