BEGIN:VCALENDAR
VERSION:2.0
PRODID:-//ChamberMaster//Event Calendar 2.0//EN
METHOD:PUBLISH
X-PUBLISHED-TTL:P3D
REFRESH-INTERVAL:P3D
CALSCALE:GREGORIAN
BEGIN:VEVENT
DTSTART:20200808T170000Z
DTEND:20200809T030000Z
X-MICROSOFT-CDO-ALLDAYEVENT:FALSE
SUMMARY:Goat Fest
DESCRIPTION:We are goating outside!! Join us for this family friendly community event from Noon-10pm with food\, music\, games and GOATS! Meet the goats of Goat Island\, enjoy goat yoga\, goat races...just about anything goat! Rotary Park\, Jefferson. Facebook: Friends of Goat Island
X-ALT-DESC;FMTTYPE=text/html:<style type="text/css"><!--td {border: 1px solid #ccc\;}br {mso-data-placement:same-cell\;}-->\n</style>\n<span data-sheets-userformat="{&quot\;2&quot\;:897\,&quot\;3&quot\;:{&quot\;1&quot\;:1}\,&quot\;10&quot\;:0\,&quot\;11&quot\;:4\,&quot\;12&quot\;:0}" data-sheets-value="{&quot\;1&quot\;:2\,&quot\;2&quot\;:&quot\;We are goating outside!!  Join us for this family friendly community event from 11am-5pm with food\, music\, games and GOATS!  Meet the goats of Goat Island\, enjoy goat yoga\, goat races...just about anything goat!   Rotary Park\, Jefferson. Facebook: Friends of Goat Island&quot\;}" style="font-size: 10pt\; font-family: Arial\;">We are goating outside!! Join us for this family friendly community event from Noon-10pm with food\, music\, games and GOATS! Meet the goats of Goat Island\, enjoy goat yoga\, goat races...just about anything goat! Rotary Park\, Jefferson. Facebook: Friends of Goat Island</span>
LOCATION:Rotary Park\, Jefferson.
UID:e.2671.3961
SEQUENCE:3
DTSTAMP:20260425T125132Z
URL:https://business.jeffersonchamberwi.com/events/details/goat-fest-3961
END:VEVENT

END:VCALENDAR
