BEGIN:VCALENDAR
VERSION:2.0
PRODID:-//ChamberMaster//Event Calendar 2.0//EN
METHOD:PUBLISH
X-PUBLISHED-TTL:P3D
REFRESH-INTERVAL:P3D
CALSCALE:GREGORIAN
BEGIN:VEVENT
DTSTART:20220625T160000Z
DTEND:20220625T190000Z
X-MICROSOFT-CDO-ALLDAYEVENT:FALSE
SUMMARY:Grand Opening 2022
DESCRIPTION:Heritage Country Meats GRAND OPENING!
X-ALT-DESC;FMTTYPE=text/html:Heritage Country Meats GRAND OPENING!
LOCATION:Free Burger or Brat In-Store Specials FFA Alumni Ice Cream Barn Local Businesses' Farmer Market Face painting and Balloons for Kids Free Can Koozie with Retail Store Purchase
UID:e.2671.4794
SEQUENCE:3
DTSTAMP:20260424T023056Z
URL:https://business.jeffersonchamberwi.com/events/details/grand-opening-2022-4794
END:VEVENT

END:VCALENDAR
