BEGIN:VCALENDAR
VERSION:2.0
PRODID:-//ChamberMaster//Event Calendar 2.0//EN
METHOD:PUBLISH
X-PUBLISHED-TTL:P3D
REFRESH-INTERVAL:P3D
CALSCALE:GREGORIAN
BEGIN:VEVENT
DTSTART:20191214T160000Z
DTEND:20191214T210000Z
X-MICROSOFT-CDO-ALLDAYEVENT:FALSE
SUMMARY:Holiday Gift Box Make & Take Event 2019
DESCRIPTION:Make your own holiday gift box\, prices vary by selection.
X-ALT-DESC;FMTTYPE=text/html:Make your own holiday gift box\, prices vary by selection.
LOCATION:Jones Market 601 Jones Ave. Fort Atkinson\, WI 53538
UID:e.2671.3921
SEQUENCE:3
DTSTAMP:20260423T060030Z
URL:https://business.jeffersonchamberwi.com/events/details/holiday-gift-box-make-take-event-2019-3921
END:VEVENT

END:VCALENDAR
