BEGIN:VCALENDAR
VERSION:2.0
PRODID:-//ChamberMaster//Event Calendar 2.0//EN
METHOD:PUBLISH
X-PUBLISHED-TTL:P3D
REFRESH-INTERVAL:P3D
CALSCALE:GREGORIAN
BEGIN:VEVENT
DTSTART:20191207T233000Z
DTEND:20191208T023000Z
X-MICROSOFT-CDO-ALLDAYEVENT:FALSE
SUMMARY:Holiday Parade of Lights 2019
DESCRIPTION:Free Event \n\nFamily Fun
X-ALT-DESC;FMTTYPE=text/html:Free Event&nbsp\;<br />\nFamily Fun
LOCATION:Main Street\, Jefferson\, WI
UID:e.2671.3828
SEQUENCE:3
DTSTAMP:20260426T005415Z
URL:https://business.jeffersonchamberwi.com/events/details/holiday-parade-of-lights-2019-3828
END:VEVENT

END:VCALENDAR
