BEGIN:VCALENDAR
VERSION:2.0
PRODID:-//ChamberMaster//Event Calendar 2.0//EN
METHOD:PUBLISH
X-PUBLISHED-TTL:P3D
REFRESH-INTERVAL:P3D
CALSCALE:GREGORIAN
BEGIN:VEVENT
DTSTART:20251008T223000Z
DTEND:20251009T023000Z
X-MICROSOFT-CDO-ALLDAYEVENT:FALSE
SUMMARY:Home Buyer Education Workshop 2025
DESCRIPTION:Jefferson County At Home\n\nHome Buyer Education Workshop on Wednesday\, October 8th at 5:30 pm - 9:30 pm.\n\n \n\nUW Extension Building - Collins Rd
X-ALT-DESC;FMTTYPE=text/html:<p style="margin: 0px\; padding: 0px\; color: rgb(0\, 0\, 0)\; font-family: Roboto\, sans-serif\; font-size: 14px\; white-space-collapse: preserve\; background-color: rgb(140\, 197\, 64)\; text-align: center\;"><span style="font-weight: bold\;">Jefferson County At Home</span></p>\n\n<p style="margin: 0px\; padding: 0px\; color: rgb(0\, 0\, 0)\; font-family: Roboto\, sans-serif\; font-size: 14px\; white-space-collapse: preserve\; background-color: rgb(140\, 197\, 64)\;">Home Buyer Education Workshop on Wednesday\, October 8th at 5:30 pm - 9:30 pm.</p>\n\n<p style="margin: 0px\; padding: 0px\; color: rgb(0\, 0\, 0)\; font-family: Roboto\, sans-serif\; font-size: 14px\; white-space-collapse: preserve\; background-color: rgb(140\, 197\, 64)\;">&nbsp\;</p>\n\n<p style="margin: 0px\; padding: 0px\; color: rgb(0\, 0\, 0)\; font-family: Roboto\, sans-serif\; font-size: 14px\; white-space-collapse: preserve\; background-color: rgb(140\, 197\, 64)\;">UW Extension Building - Collins Rd</p>\n
LOCATION:
UID:e.2671.9075
SEQUENCE:3
DTSTAMP:20260425T164411Z
URL:https://business.jeffersonchamberwi.com/events/details/home-buyer-education-workshop-2025-9075
END:VEVENT

END:VCALENDAR
