BEGIN:VCALENDAR
VERSION:2.0
PRODID:-//ChamberMaster//Event Calendar 2.0//EN
METHOD:PUBLISH
X-PUBLISHED-TTL:P3D
REFRESH-INTERVAL:P3D
CALSCALE:GREGORIAN
BEGIN:VEVENT
DTSTART:20230120T163000Z
DTEND:20230120T173000Z
X-MICROSOFT-CDO-ALLDAYEVENT:FALSE
SUMMARY:Homeschool Hangout at Jefferson Public Library 2023
DESCRIPTION:Come & hang out with other homeschoolers at the Jefferson Public Library! Crafts\, games\, and activities will be available. Light refreshments provided. All Ages.
X-ALT-DESC;FMTTYPE=text/html:Come &amp\; hang out with other homeschoolers at the Jefferson Public Library! Crafts\, games\, and activities will be available. Light refreshments provided. All Ages.
LOCATION:
UID:e.2671.5031
SEQUENCE:3
DTSTAMP:20260423T161827Z
URL:https://business.jeffersonchamberwi.com/events/details/homeschool-hangout-at-jefferson-public-library-2023-5031
END:VEVENT

END:VCALENDAR
