BEGIN:VCALENDAR
VERSION:2.0
PRODID:-//ChamberMaster//Event Calendar 2.0//EN
METHOD:PUBLISH
X-PUBLISHED-TTL:P3D
REFRESH-INTERVAL:P3D
CALSCALE:GREGORIAN
BEGIN:VEVENT
DTSTART:20200215T230000Z
DTEND:20200216T040000Z
X-MICROSOFT-CDO-ALLDAYEVENT:FALSE
SUMMARY:Hoops for Hope 2020
DESCRIPTION:Hoops for Hope is a fundraising event featuring evening girls basketball games between longtime rivals Jefferson and Fort Atkinson. This year proceeds will work to #BRINGITLOCAL and bring services to UW Cancer Center Johnson Creek for area cancer patients.\n\n\n\nAdditional activities include a flag presentation by St. John's Military Academy\, halftime games\, basket raffles\, a 50/50 raffle\, and concession areas.\n\n\n\nFor more information visit www.tomorrowshope.org/hoops.
X-ALT-DESC;FMTTYPE=text/html:Hoops for Hope is a fundraising event featuring evening girls basketball games between longtime rivals Jefferson and Fort Atkinson. This year proceeds will work to #BRINGITLOCAL and bring services to UW Cancer Center Johnson Creek for area cancer patients.<br />\n<br />\nAdditional activities include a flag presentation by St. John&#39\;s Military Academy\, halftime games\, basket raffles\, a 50/50 raffle\, and concession areas.<br />\n<br />\nFor more information visit&nbsp\;<span style="font-family:calibri\,sans-serif\;"><span style="font-size:11.0pt\;"><a href="http://www.tomorrowshope.org/hoops">www.tomorrowshope.org/hoops</a>.</span></span><br />\n&nbsp\;
LOCATION:Jefferson High School 700 W Milwaukee St 53549
UID:e.2671.3929
SEQUENCE:3
DTSTAMP:20260425T202851Z
URL:https://business.jeffersonchamberwi.com/events/details/hoops-for-hope-2020-3929
END:VEVENT

END:VCALENDAR
