BEGIN:VCALENDAR
VERSION:2.0
PRODID:-//ChamberMaster//Event Calendar 2.0//EN
METHOD:PUBLISH
X-PUBLISHED-TTL:P3D
REFRESH-INTERVAL:P3D
CALSCALE:GREGORIAN
BEGIN:VEVENT
DTSTART;VALUE=DATE:20230121
DTEND;VALUE=DATE:20230122
TRANSP:TRANSPARENT
X-MICROSOFT-CDO-ALLDAYEVENT:TRUE
SUMMARY:Hoops for Hope 2023
DESCRIPTION:We are excited to be partnering again with the Jefferson High School Tomorrow's Hope Ambassadors to bring back the Annual Hoops for Hope basketball event scheduled for January 21\, 2023.  The main event will be the rival girls' basketball Battle for the Paddle game between Jefferson and Fort Atkinson High Schools at the Jefferson High School.  Additionally\, the event will include a Boys Swimming Invite and Two JV basketball games leading up to the main event.\n\nWith 47 students signing up for the Jefferson High School Tomorrow's Hope Ambassadors\, we are busy planning and coordinating the event.  We will be selling event T-Shirts leading up to the game that will build upon the rivalry!  We will also be coordinating fundraising activities leading up to the game.\n\nWe are looking for community support through sponsorships to support the event and the Tomorrow's Hope mission to foster health-related research\, education and support activities that have a direct impact on individuals in our local health care service area touched by Alzheimer's\, cancer\, diabetes\, heart disease\, and other life-limiting illnesses.\n\nWe hope to see you there!
X-ALT-DESC;FMTTYPE=text/html:We are excited to be partnering again with the Jefferson High School Tomorrow&#39\;s Hope Ambassadors to bring back the Annual Hoops for Hope basketball event scheduled for January 21\, 2023.&nbsp\; The main event will be the rival girls&#39\; basketball Battle for the Paddle game between Jefferson and Fort Atkinson High Schools at the Jefferson High School.&nbsp\; Additionally\, the event will include a Boys Swimming Invite and Two JV basketball games leading up to the main event.<br />\nWith 47 students signing up for the Jefferson High School Tomorrow&#39\;s Hope Ambassadors\, we are busy planning and coordinating the event.&nbsp\; We will be selling event T-Shirts leading up to the game that will build upon the rivalry!&nbsp\; We will also be coordinating fundraising activities leading up to the game.<br />\nWe are looking for community support through sponsorships to support the event and the Tomorrow&#39\;s Hope mission to foster health-related research\, education and support activities that have a direct impact on individuals in our local health care service area touched by Alzheimer&#39\;s\, cancer\, diabetes\, heart disease\, and other life-limiting illnesses.<br />\nWe hope to see you there!<br />\n&nbsp\;
LOCATION:Jefferson High School
UID:e.2671.4957
SEQUENCE:3
DTSTAMP:20260423T161502Z
URL:https://business.jeffersonchamberwi.com/events/details/hoops-for-hope-2023-4957
END:VEVENT

END:VCALENDAR
