BEGIN:VCALENDAR
VERSION:2.0
PRODID:-//ChamberMaster//Event Calendar 2.0//EN
METHOD:PUBLISH
X-PUBLISHED-TTL:P3D
REFRESH-INTERVAL:P3D
CALSCALE:GREGORIAN
BEGIN:VEVENT
DTSTART:20200311T230000Z
DTEND:20200312T010000Z
X-MICROSOFT-CDO-ALLDAYEVENT:FALSE
SUMMARY:HSJC Dogs' Night Out Workshop 2020
DESCRIPTION:If your dog needs some help with basic life skills\, make plans to attend the free "Dog's Night Out: Life Skills for Your Canine Companion" workshop on Wednesday\, March 11 at the Humane Society of Jefferson County. RSVP required to attend one of the times for this workshop starting at 6:00 p.m.\, 6:45 p.m. or 7:30 p.m. and will be taught by a behavioral trainer of the Lake Mills Veterinary Clinic.   Participants will learn fun ways to work on their dog's life skills through games and activities.  Some of the topics will be teaching dogs how to walk nicely on a leash\, and simple commands such as 'take it'\, 'wait'\, and 'back up'.   In addition to learning these skills\, it helps grow the bond between humans and their furry friends.  All dogs attending must be people friendly\, dog friendly\, current on all vaccinations\, and leashed with a 4'   6' non-retractable leash. Sponsored by the Humane Society of Jefferson County and the Lake Mills Veterinary Clinic\, there is no cost to attend\, but please consider bringing a cash donation or an item from the shelter's 'wish list'.  Please call 920-674-2048 to register for this fun and informative class.  \n\n \n\nAbout The Humane Society of Jefferson County\n\nThe Humane Society of Jefferson County (HSJC) has been serving the community since 1922.  HSJC provides life-saving services for abandoned\, stray\, and surrendered animals as well as a wide range of community animal services and humane education.  Each year the HSJC helps save\, serve\, and provide forever homes to more than 1\,000 animals in need.\n\n \n\nFor more information\, please contact Taylor Marshall\, Community Outreach Coordinator\, at TMarshall@HSJC-wis.com or Jeff Okazaki\, Executive Director\, at Jeff@HSJC-wis.com or call 920-674-2048.
X-ALT-DESC;FMTTYPE=text/html:<span style="font-family:times new roman\,serif">If your dog needs some help with basic life skills\, make plans to attend the free &ldquo\;Dog&rsquo\;s Night Out: Life Skills for Your Canine Companion&rdquo\; workshop on Wednesday\, March 11 at the Humane Society of Jefferson County. RSVP required to attend one of the times for this workshop starting at 6:00 p.m.\, 6:45 p.m. or 7:30 p.m. and will be taught by a behavioral trainer of the Lake Mills Veterinary Clinic.&nbsp\;&nbsp\; Participants will learn fun ways to work on their dog&rsquo\;s life skills through games and activities.&nbsp\; Some of the topics will be teaching dogs how to walk nicely on a leash\, and simple commands such as &lsquo\;take it&rsquo\;\, &lsquo\;wait&rsquo\;\, and &lsquo\;back up&rsquo\;.&nbsp\;&nbsp\; In addition to learning these skills\, it helps grow the bond between humans and their furry friends.&nbsp\; All dogs attending must be people friendly\, dog friendly\, current on all vaccinations\, and leashed with a 4&rsquo\; &ndash\; 6&rsquo\; non</span>-retractable leash. Sponsored by the Humane Society of Jefferson County and the Lake Mills Veterinary Clinic\, there is no cost to attend\, but please consider bringing a cash donation or an item from the shelter&rsquo\;s &lsquo\;wish list&rsquo\;.&nbsp\; Please call 920-674-2048 to register for this fun and informative class.<span style="font-family:calibri\,sans-serif"><span style="font-size:16.0pt">&nbsp\; </span></span><br />\n&nbsp\;<br />\n<strong>About The Humane Society of Jefferson County</strong><br />\nThe Humane Society of Jefferson County (HSJC) has been serving the community since 1922.&nbsp\; HSJC provides life-saving services for abandoned\, stray\, and surrendered animals as well as a wide range of community animal services and humane education.&nbsp\; Each year the HSJC helps save\, serve\, and provide forever homes to more than 1\,000 animals in need.<br />\n&nbsp\;<br />\n<em>For more information\, please contact Taylor Marshall\, Community Outreach Coordinator\, at </em><a href="mailto:TMarshall@HSJC-wis.com"><em>TMarshall@HSJC-wis.com</em></a><em> or Jeff Okazaki\, Executive Director\, at </em><a href="mailto:Jeff@HSJC-wis.com"><em>Jeff@HSJC-wis.com</em></a><em> or call 920-674-2048.</em>
LOCATION:Humane Society of Jefferson County
UID:e.2671.3943
SEQUENCE:3
DTSTAMP:20260425T185922Z
URL:https://business.jeffersonchamberwi.com/events/details/hsjc-dogs-night-out-workshop-2020-3943
END:VEVENT

END:VCALENDAR
