BEGIN:VCALENDAR
VERSION:2.0
PRODID:-//ChamberMaster//Event Calendar 2.0//EN
METHOD:PUBLISH
X-PUBLISHED-TTL:P3D
REFRESH-INTERVAL:P3D
CALSCALE:GREGORIAN
BEGIN:VEVENT
DTSTART:20200316T230000Z
DTEND:20200317T010000Z
X-MICROSOFT-CDO-ALLDAYEVENT:FALSE
SUMMARY:HSJC Help! There's a Loose Dog workshop 2020
DESCRIPTION:If you're out walking your dog\, or walking alone\, and a loose dog comes running toward you would you know what to do? The "Help! There's a Loose Dog" workshop on Monday\, March 16 at 6:00 p.m. will teach participants how handle the situation safely and escape unscathed.  Learn some simple\, effective ways of protecting yourself and your dogs if you are ever in this frightening situation.  Sponsored by the Humane Society of Jefferson County and the Lake Mills Veterinary Clinic\, there is no cost to attend\, but please consider bringing a cash donation or an item from the shelter's 'wish list'.  Please call 920-674-2048 to register for this informative class. \n\n \n\nAbout The Humane Society of Jefferson County\n\nThe Humane Society of Jefferson County (HSJC) has been serving the community since 1922.  HSJC provides life-saving services for abandoned\, stray\, and surrendered animals as well as a wide range of community animal services and humane education.  Each year the HSJC helps save\, serve\, and provide forever homes to more than 1\,000 animals in need.\n\n \n\nFor more information\, please contact Taylor Marshall\, Community Outreach Coordinator\, at TMarshall@HSJC-wis.com or Jeff Okazaki\, Executive Director\, at Jeff@HSJC-wis.com or call 920-674-2048.
X-ALT-DESC;FMTTYPE=text/html:If you&rsquo\;re out walking your dog\, or walking alone\, and a loose dog comes running toward you would you know what to do? The &ldquo\;Help! There&rsquo\;s a Loose Dog&rdquo\; workshop on Monday\, March 16 at 6:00 p.m. will teach participants how handle the situation safely and escape unscathed. &nbsp\;Learn some simple\, effective ways of protecting yourself and your dogs if you are ever in this frightening situation.&nbsp\; Sponsored by the Humane Society of Jefferson County and the Lake Mills Veterinary Clinic\, there is no cost to attend\, but please consider bringing a cash donation or an item from the shelter&rsquo\;s &lsquo\;wish list&rsquo\;.&nbsp\; Please call 920-674-2048 to register for this informative class.&nbsp\;<br />\n&nbsp\;<br />\n<strong>About The Humane Society of Jefferson County</strong><br />\nThe Humane Society of Jefferson County (HSJC) has been serving the community since 1922.&nbsp\; HSJC provides life-saving services for abandoned\, stray\, and surrendered animals as well as a wide range of community animal services and humane education.&nbsp\; Each year the HSJC helps save\, serve\, and provide forever homes to more than 1\,000 animals in need.<br />\n&nbsp\;<br />\n<em>For more information\, please contact Taylor Marshall\, Community Outreach Coordinator\, at </em><a href="mailto:TMarshall@HSJC-wis.com"><em>TMarshall@HSJC-wis.com</em></a><em> or Jeff Okazaki\, Executive Director\, at </em><a href="mailto:Jeff@HSJC-wis.com"><em>Jeff@HSJC-wis.com</em></a><em> or call 920-674-2048.</em>
LOCATION:Humane Society of Jefferson County
UID:e.2671.3941
SEQUENCE:3
DTSTAMP:20260425T185845Z
URL:https://business.jeffersonchamberwi.com/events/details/hsjc-help-there-s-a-loose-dog-workshop-2020-3941
END:VEVENT

END:VCALENDAR
