BEGIN:VCALENDAR
VERSION:2.0
PRODID:-//ChamberMaster//Event Calendar 2.0//EN
METHOD:PUBLISH
X-PUBLISHED-TTL:P3D
REFRESH-INTERVAL:P3D
CALSCALE:GREGORIAN
BEGIN:VEVENT
DTSTART:20230415T180000Z
DTEND:20230415T200000Z
X-MICROSOFT-CDO-ALLDAYEVENT:FALSE
SUMMARY:HSJC Microchip Clinic 2023
DESCRIPTION:The Humane Society of Jefferson County will be holding a Microchip Clinic on Saturday\, April 15 from 1 p.m.-3 p.m. in the shelter's Community Education Room. Pricing for the Microchip this spring is $25.00 per pet\, which includes registration in a pet recovery database. Appointments must be made in advance by calling 920-674-2048 or emailing Tmarshall@hsjc-wis.com.\n\nVeterinarians and animals shelters encourage microchipping   and for good reason.  Microchipping substantially increases the likelihood of a pet returning home by offering secure\, reliable\, unique and permanent identification.\n\nA microchip is no bigger than a grain of rice and the procedure is similar to a routine vaccination. At only $25.00\, it is less costly than a month's supply of pet food. A microchip and enrollment in a pet recovery database provides permanent identification that cannot wear down\, fall off\, or become scratched into illegibility like metal or plastic ID tags.\n\nWithout ID\, 90% of lost pets never make it back home. Make your reservation now to have your pet microchipped at the Humane Society of Jefferson County on Saturday\, November 12.\n\nAbout The Humane Society of Jefferson County\n\nThe Humane Society of Jefferson County (HSJC) has been serving the community since 1922.  HSJC provides life-saving services for abandoned\, stray\, and surrendered animals as well as a wide range of community animal services and humane education.  Each year the HSJC helps save\, serve\, and provide forever homes to about 1\,000 animals in need.\n\n \n\nFor more information\, please contact Taylor Marshall\, Community Outreach Coordinator\, at TMarshall@HSJC-wis.com or call 920-674-2048.
X-ALT-DESC;FMTTYPE=text/html:The Humane Society of Jefferson County will be holding a Microchip Clinic on Saturday\, April 15 from 1 p.m.-3 p.m. in the shelter&rsquo\;s Community Education Room. Pricing for the Microchip this spring is $25.00 per pet\, which includes registration in a pet recovery database. Appointments must be made in advance by calling 920-674-2048 or emailing <a href="mailto:Tmarshall@hsjc-wis.com">Tmarshall@hsjc-wis.com</a>.<br />\nVeterinarians and animals shelters encourage microchipping &ndash\; and for good reason.&nbsp\; Microchipping substantially increases the likelihood of a pet returning home by offering secure\, reliable\, unique and permanent identification.<br />\nA microchip is no bigger than a grain of rice and the procedure is similar to a routine vaccination. At only $25.00\, it is less costly than a month&rsquo\;s supply of pet food. A microchip and enrollment in a pet recovery database provides permanent identification that cannot wear down\, fall off\, or become scratched into illegibility like metal or plastic ID tags.<br />\nWithout ID\, 90% of lost pets never make it back home. Make your reservation now to have your pet microchipped at the Humane Society of Jefferson County on Saturday\, November 12.<br />\n<strong>About The Humane Society of Jefferson County</strong><br />\nThe Humane Society of Jefferson County (HSJC) has been serving the community since 1922.&nbsp\; HSJC provides life-saving services for abandoned\, stray\, and surrendered animals as well as a wide range of community animal services and humane education.&nbsp\; Each year the HSJC helps save\, serve\, and provide forever homes to about 1\,000 animals in need.<br />\n&nbsp\;<br />\n<em>For more information\, please contact Taylor Marshall\, Community Outreach Coordinator\, at </em><a href="mailto:TMarshall@HSJC-wis.com"><em>TMarshall@HSJC-wis.com</em></a><em> or call 920-674-2048.</em>
LOCATION:Humane Society of Jefferson County W6127 Kiesling rd. Jefferson\, WI 53549
UID:e.2671.6011
SEQUENCE:3
DTSTAMP:20260423T113522Z
URL:https://business.jeffersonchamberwi.com/events/details/hsjc-microchip-clinic-2023-6011
END:VEVENT

END:VCALENDAR
