BEGIN:VCALENDAR
VERSION:2.0
PRODID:-//ChamberMaster//Event Calendar 2.0//EN
METHOD:PUBLISH
X-PUBLISHED-TTL:P3D
REFRESH-INTERVAL:P3D
CALSCALE:GREGORIAN
BEGIN:VEVENT
DTSTART;VALUE=DATE:20220423
DTEND;VALUE=DATE:20220424
TRANSP:TRANSPARENT
X-MICROSOFT-CDO-ALLDAYEVENT:TRUE
SUMMARY:HSJC Mothers Day Raffle 2022
DESCRIPTION:Treat your mom or the lady in your life\, and support the Humane Society of Jefferson County at the same time\, by purchasing a raffle ticket for the chance to win a wonderful get away to beautiful Door County.  \n\nThe lucky winner will be able to gift their Mom or a special woman with a $500 gift certificate to High Point Inn in the beautiful Door County along with a beautifully painted Door County glass and other great items.  \n\nTickets are $20.00 each and are available at the Humane Society of Jefferson County.  Go online to HSJC-wis.com to enter\, call to purchase your ticket(s) with a credit/debit card by phone\, or stop by the shelter for a chance to win!  Tickets will be sold until Thursday\, May 5th online or until Friday May 6th at 11:59 a.m. and the winning ticket will be drawn on Friday\, May 6th\, just in time for Mother's Day.  Only 150 tickets will be sold\, so buy yours today! \n\nAbout The Humane Society of Jefferson County\n\nThe Humane Society of Jefferson County (HSJC) has been serving the community since 1922.  HSJC provides life-saving services for abandoned\, stray\, and surrendered animals as well as a wide range of community animal services and humane education.  Each year the HSJC helps save\, serve\, and provide forever homes to more than 1\,000 animals in need.\n\n \n\nFor more information\, please contact Taylor Marshall\, Community Outreach Coordinator\, at TMarshall@HSJC-wis.com or Jeff Okazaki\, Executive Director\, at Jeff@HSJC-wis.com or call 920-674-2048.
X-ALT-DESC;FMTTYPE=text/html:<span style="font-family:cambria\,serif">Treat your mom or the lady in your life\, and support the Humane Society of Jefferson County at the same time\, by purchasing a raffle ticket for the chance to win a wonderful get away to beautiful Door County.&nbsp\; </span><br />\n<span style="font-family:cambria\,serif">The lucky winner will be able to gift their Mom or a special woman with a $500 gift certificate to High Point Inn in the beautiful Door County along with a beautifully painted Door County glass and other great items</span><span style="font-family:cambria\,serif">.&nbsp\; </span><br />\n<span style="font-family:cambria\,serif">Tickets are $20.00 each and are available at the Humane Society of Jefferson County.&nbsp\; Go online to HSJC-wis.com to enter\, call to purchase your ticket(s) with a credit/debit card by phone\, or stop by the shelter for a chance to win!&nbsp\; Tickets will be sold until Thursday\, May 5<sup>th</sup> online or until Friday May 6<sup>th</sup> at 11:59 a.m. and the winning ticket will be drawn on Friday\, May 6<sup>th</sup>\, just in time for Mother&rsquo\;s Day.&nbsp\; Only 150 tickets will be sold\, so buy yours today! </span><br />\n<strong>About The Humane Society of Jefferson County</strong><br />\nThe Humane Society of Jefferson County (HSJC) has been serving the community since 1922.&nbsp\; HSJC provides life-saving services for abandoned\, stray\, and surrendered animals as well as a wide range of community animal services and humane education.&nbsp\; Each year the HSJC helps save\, serve\, and provide forever homes to more than 1\,000 animals in need.<br />\n&nbsp\;<br />\n<em>For more information\, please contact Taylor Marshall\, Community Outreach Coordinator\, at </em><a href="mailto:TMarshall@HSJC-wis.com"><em>TMarshall@HSJC-wis.com</em></a><em> or Jeff Okazaki\, Executive Director\, at </em><a href="mailto:Jeff@HSJC-wis.com"><em>Jeff@HSJC-wis.com</em></a><em> or call 920-674-2048.</em>
LOCATION:Humane Society of Jefferson County W6127 Kiesling rd. Jefferson WI 53549
UID:e.2671.4748
SEQUENCE:3
DTSTAMP:20260424T062939Z
URL:https://business.jeffersonchamberwi.com/events/details/hsjc-mothers-day-raffle-04-23-2022-4748
END:VEVENT

END:VCALENDAR
