BEGIN:VCALENDAR
VERSION:2.0
PRODID:-//ChamberMaster//Event Calendar 2.0//EN
METHOD:PUBLISH
X-PUBLISHED-TTL:P3D
REFRESH-INTERVAL:P3D
CALSCALE:GREGORIAN
BEGIN:VEVENT
DTSTART:20200321T180000Z
DTEND:20200321T210000Z
X-MICROSOFT-CDO-ALLDAYEVENT:FALSE
SUMMARY:HSJC Spring Rabies Clinic 2020
DESCRIPTION:POSTPONED UNTIL FURTHER NOTICE.The Spring Rabies Vaccination Clinic\, sponsored by the Humane Society of Jefferson County and Badger Veterinary Hospital of Cambridge\, will be held at the Jefferson County Fair Park on Saturday\, March 21 from 1:00 4:00 p.m.  Cost is $15.00 per animal and payment can now be made with cash\, check or credit card.  All rabies vaccinations will be valid for one year unless a rabies certificate is provided as proof of a prior vaccination.  With a valid rabies certificate\, the vaccine will be good for 3 years.  For the safety of both owners and their pets\, cats must be contained in carriers and dogs must be on leash.  Service is provided on a first-come/first-served basis. Appointments are not necessary. Any questions may be directed to the Humane Society of Jefferson County @ 920-674-2048.\n\n \n\nAbout The Humane Society of Jefferson County\n\nThe Humane Society of Jefferson County (HSJC) has been serving the community since 1922.  HSJC provides life-saving services for abandoned\, stray\, and surrendered animals as well as a wide range of community animal services and humane education.  Each year the HSJC helps save\, serve\, and provide forever homes to more than 1\,000 animals in need.\n\n \n\nFor more information\, please contact Taylor Marshall\, Community Outreach Coordinator\, at TMarshall@HSJC-wis.com or Jeff Okazaki\, Executive Director\, at Jeff@HSJC-wis.com or call 920-674-2048.
X-ALT-DESC;FMTTYPE=text/html:<strong><span style="background-color:#FFFF00">POSTPONED UNTIL FURTHER NOTICE.</span></strong>The Spring Rabies Vaccination Clinic\, sponsored by the Humane Society of Jefferson County and Badger Veterinary Hospital of Cambridge\, will be held at the Jefferson County Fair Park on Saturday\, March 21 from 1:00&ndash\;4:00 p.m.&nbsp\; Cost is $15.00 per animal and payment can now be made with cash\, check or credit card.&nbsp\; All rabies vaccinations will be valid for one year unless a rabies certificate is provided as proof of a prior vaccination.&nbsp\; <strong>With a valid rabies certificate\, the vaccine will be good for 3 years.</strong>&nbsp\; For the safety of both owners and their pets\, cats must be contained in carriers and dogs must be on leash.&nbsp\; Service is provided on a first-come/first-served basis. Appointments are not necessary. Any questions may be directed to the Humane Society of Jefferson County @ 920-674-2048.<br />\n&nbsp\;<br />\n<strong>About The Humane Society of Jefferson County</strong><br />\nThe Humane Society of Jefferson County (HSJC) has been serving the community since 1922.&nbsp\; HSJC provides life-saving services for abandoned\, stray\, and surrendered animals as well as a wide range of community animal services and humane education.&nbsp\; Each year the HSJC helps save\, serve\, and provide forever homes to more than 1\,000 animals in need.<br />\n&nbsp\;<br />\n<em>For more information\, please contact Taylor Marshall\, Community Outreach Coordinator\, at </em><a href="mailto:TMarshall@HSJC-wis.com"><em>TMarshall@HSJC-wis.com</em></a><em> or Jeff Okazaki\, Executive Director\, at </em><a href="mailto:Jeff@HSJC-wis.com"><em>Jeff@HSJC-wis.com</em></a><em> or call 920-674-2048.</em>
LOCATION:POSTPONED UNTIL FURTHER NOTICE.
UID:e.2671.3944
SEQUENCE:3
DTSTAMP:20260425T203147Z
URL:https://business.jeffersonchamberwi.com/events/details/hsjc-spring-rabies-clinic-2020-3944
END:VEVENT

END:VCALENDAR
