BEGIN:VCALENDAR
VERSION:2.0
PRODID:-//ChamberMaster//Event Calendar 2.0//EN
METHOD:PUBLISH
X-PUBLISHED-TTL:P3D
REFRESH-INTERVAL:P3D
CALSCALE:GREGORIAN
BEGIN:VEVENT
DTSTART:20220221T230000Z
DTEND:20220222T020000Z
X-MICROSOFT-CDO-ALLDAYEVENT:FALSE
SUMMARY:HSJC Trivia Night 2022
DESCRIPTION:The Humane Society of Jefferson County is excited to be having Trivia Night on Monday\, February 21\, 2022.  Trivia Night is being generously hosted by Mr. Brews Taphouse at 201 N. Main St. in Fort Atkinson. Come early for great food and drinks and the competition will commence at 6:00.  Tables of up to 4 are $20 and going fast.  Go to https://hsjc-wis.com/trivia/ to register today.  Trivia Night is sure to be a fun and friendly competition that challenges your knowledge of random trivia facts!  During the event this night\, there will be guest bartenders from the HSJC\, specialty beer\, and a yappy hour menu.  All of the proceeds raised will directly benefit the animals in our care!\n\n \n\nAbout The Humane Society of Jefferson County\n\nThe Humane Society of Jefferson County (HSJC) has been serving the community since 1922.  HSJC provides life-saving services for abandoned\, stray\, and surrendered animals as well as a wide range of community animal services and humane education.  Each year the HSJC helps save\, serve\, and provide forever homes to more than 1\,000 animals in need.\n\n \n\nFor more information\, please contact Taylor Marshall\, Community Outreach Coordinator\, at TMarshall@HSJC-wis.com or Jeff Okazaki\, Executive Director\, at Jeff@HSJC-wis.com or call 920-674-2048.
X-ALT-DESC;FMTTYPE=text/html:The <span style="font-family:calibri\,sans-serif">Humane Society of Jefferson County is excited to be having Trivia Night on Monday\, February 21\, 2022.&nbsp\; Trivia Night is being generously hosted by Mr. Brews Taphouse at 201 N. Main St. in Fort Atkinson. Come early for great food and drinks and the competition will commence at 6:00.&nbsp\; Tables of up to 4 are $20 and going fast.&nbsp\; Go to </span><a href="https://hsjc-wis.com/trivia/"><span style="font-family:calibri\,sans-serif">https://hsjc-wis.com/trivia/</span></a><span style="font-family:calibri\,sans-serif"> to register today.&nbsp\; Trivia Night is sure to be a fun and friendly competition that challenges your knowledge of random trivia facts!&nbsp\; During the event this night\, there will be guest bartenders from the HSJC\, specialty beer\, and a yappy hour menu.&nbsp\; All of the proceeds raised will directly benefit the animals in our care!</span><br />\n&nbsp\;<br />\n<strong>About The Humane Society of Jefferson County</strong><br />\nThe Humane Society of Jefferson County (HSJC) has been serving the community since 1922.&nbsp\; HSJC provides life-saving services for abandoned\, stray\, and surrendered animals as well as a wide range of community animal services and humane education.&nbsp\; Each year the HSJC helps save\, serve\, and provide forever homes to more than 1\,000 animals in need.<br />\n&nbsp\;<br />\n<em>For more information\, please contact Taylor Marshall\, Community Outreach Coordinator\, at </em><a href="mailto:TMarshall@HSJC-wis.com"><em>TMarshall@HSJC-wis.com</em></a><em> or Jeff Okazaki\, Executive Director\, at </em><a href="mailto:Jeff@HSJC-wis.com"><em>Jeff@HSJC-wis.com</em></a><em> or call 920-674-2048.</em>
LOCATION:Mr. Brews Taphouse 201 N Main st. Fort Atkinson
UID:e.2671.4512
SEQUENCE:3
DTSTAMP:20260424T090832Z
URL:https://business.jeffersonchamberwi.com/events/details/hsjc-trivia-night-2022-4512
END:VEVENT

END:VCALENDAR
