BEGIN:VCALENDAR
VERSION:2.0
PRODID:-//ChamberMaster//Event Calendar 2.0//EN
METHOD:PUBLISH
X-PUBLISHED-TTL:P3D
REFRESH-INTERVAL:P3D
CALSCALE:GREGORIAN
BEGIN:VEVENT
DTSTART:20200308T010000Z
DTEND:20200308T050000Z
X-MICROSOFT-CDO-ALLDAYEVENT:FALSE
SUMMARY:I Am They "Scars" Tour 2020
DESCRIPTION:I Am They is a Christian band formed in Carson City\, NV. Their unique instrumentation and sound is led by three-part vocal harmonies. \n\n\n\nThey will be performing at Real Hope Community Church. To purchase your tickets call (920) 648-3500 or visit https://realhope.ccbchurch.com/goto/forms/73/responses/new.\n\n\n\nTickets are selling fast! Get yours while they last.
X-ALT-DESC;FMTTYPE=text/html:I Am They is a Christian band formed in Carson City\, NV. Their unique instrumentation and sound is led by three-part vocal harmonies.&nbsp\;<br />\n<br />\nThey will be performing at Real Hope Community Church. To purchase your tickets call (920) 648-3500 or visit&nbsp\;<span style="font-family:calibri\,sans-serif\;"><span style="font-size:11.0pt\;"><span style="font-family:arial\;"><a href="https://realhope.ccbchurch.com/goto/forms/73/responses/new">https://realhope.ccbchurch.com/goto/forms/73/responses/new</a></span>.<br />\n<br />\n<span style="font-family:arial\;">Tickets are selling fast! Get yours while they last.&nbsp\;</span></span></span>
LOCATION:Real Hope Community Church 1345 Stonehedge Lane Lake Mills\, WI 53551
UID:e.2671.3974
SEQUENCE:3
DTSTAMP:20260425T203240Z
URL:https://business.jeffersonchamberwi.com/events/details/i-am-they-scars-tour-2020-3974
END:VEVENT

END:VCALENDAR
