BEGIN:VCALENDAR
VERSION:2.0
PRODID:-//ChamberMaster//Event Calendar 2.0//EN
METHOD:PUBLISH
X-PUBLISHED-TTL:P3D
REFRESH-INTERVAL:P3D
CALSCALE:GREGORIAN
BEGIN:VEVENT
DTSTART:20251103T230000Z
DTEND:20251104T013000Z
X-MICROSOFT-CDO-ALLDAYEVENT:FALSE
SUMMARY:Intro to Excel 2025
DESCRIPTION:Students will learn to enter data\, format spreadsheets\, create basic formulas and develop simple charts/graphs. This course will provide an opportunity to discover various features Excel has to offer while enjoying instructor-led learning\, at a pace set by the students. Students are encouraged to suggest specific Excel applications they would like to learn.
X-ALT-DESC;FMTTYPE=text/html:<span style="font-size:11.0pt">Students will learn to enter data\, format spreadsheets\, create basic formulas and develop simple charts/graphs. This course will provide an opportunity to discover various features Excel has to offer while enjoying instructor-led learning\, at a pace set by the students. Students are encouraged to suggest specific Excel applications they would like to learn.</span>
LOCATION:1300 W Main Street Watertown\, WI 53098
UID:e.2671.9046
SEQUENCE:3
DTSTAMP:20260425T150916Z
URL:https://business.jeffersonchamberwi.com/events/details/intro-to-excel-11-03-2025-9046
END:VEVENT

END:VCALENDAR
