BEGIN:VCALENDAR
VERSION:2.0
PRODID:-//ChamberMaster//Event Calendar 2.0//EN
METHOD:PUBLISH
X-PUBLISHED-TTL:P3D
REFRESH-INTERVAL:P3D
CALSCALE:GREGORIAN
BEGIN:VEVENT
DTSTART:20250924T223000Z
DTEND:20250925T013000Z
X-MICROSOFT-CDO-ALLDAYEVENT:FALSE
SUMMARY:Intro to Welding 2025
DESCRIPTION:This course is an introduction to welding technology. Instruction will include arc\, wire feed\, and oxacetylene welding\, oxy-fuel cutting\, plasma ore cutting\, soldering\, Tig welding and safe operation of all equipment.
X-ALT-DESC;FMTTYPE=text/html:This course is an introduction to welding technology. Instruction will include arc\, wire feed\, and oxacetylene welding\, oxy-fuel cutting\, plasma ore cutting\, soldering\, Tig welding and safe operation of all equipment.
LOCATION:Watertown High School
UID:e.2671.9015
SEQUENCE:3
DTSTAMP:20260425T194516Z
URL:https://business.jeffersonchamberwi.com/events/details/intro-to-welding-09-24-2025-9015
END:VEVENT

END:VCALENDAR
