BEGIN:VCALENDAR
VERSION:2.0
PRODID:-//ChamberMaster//Event Calendar 2.0//EN
METHOD:PUBLISH
X-PUBLISHED-TTL:P3D
REFRESH-INTERVAL:P3D
CALSCALE:GREGORIAN
BEGIN:VEVENT
DTSTART:20251008T223000Z
DTEND:20251009T013000Z
X-MICROSOFT-CDO-ALLDAYEVENT:FALSE
SUMMARY:Intro to Welding
DESCRIPTION:This course is an introduction to welding technology. Instruction will include arc\, wire feed\, and oxacetylene welding\, oxy-fuel cutting\, plasma ore cutting\, soldering\, Tig welding and safe operation of all equipment.
X-ALT-DESC;FMTTYPE=text/html:This course is an introduction to welding technology. Instruction will include arc\, wire feed\, and oxacetylene welding\, oxy-fuel cutting\, plasma ore cutting\, soldering\, Tig welding and safe operation of all equipment.
LOCATION:Watertown High School
UID:e.2671.9017
SEQUENCE:3
DTSTAMP:20260425T181211Z
URL:https://business.jeffersonchamberwi.com/events/details/intro-to-welding-10-08-2025-9017
END:VEVENT

END:VCALENDAR
