BEGIN:VCALENDAR
VERSION:2.0
PRODID:-//ChamberMaster//Event Calendar 2.0//EN
METHOD:PUBLISH
X-PUBLISHED-TTL:P3D
REFRESH-INTERVAL:P3D
CALSCALE:GREGORIAN
BEGIN:VEVENT
DTSTART;VALUE=DATE:20210910
DTEND;VALUE=DATE:20210911
TRANSP:TRANSPARENT
X-MICROSOFT-CDO-ALLDAYEVENT:TRUE
SUMMARY:Jefferson Chamber Golf Outing 2021
DESCRIPTION:Where birdies meets business...\n\nThe Jefferson Chamber's annual Golf Outing provides the perfect balance of leisure and business. Participants have the opportunity to enjoy a day on the links with both business colleagues and potential clients\, while networking with Jefferson Chamber leadership\, board members and key decision makers in our community.\n\n\n\nProceeds of the event benefit JHS student recipients of the annual Jefferson Chamber of Commerce Scholarship.  Please help us meet our goal of doubling the scholarship to $1\,000.
X-ALT-DESC;FMTTYPE=text/html:<h3 style="box-sizing: border-box\; color: rgb(34\, 34\, 34)\; font-family: &quot\;PT Sans&quot\;\, sans-serif\; margin: 0px 0px 16px\; font-size: 24px\; background-color: rgb(253\, 253\, 253)\;">Where birdies meets&nbsp\;business...</h3>\n\n<p style="box-sizing: border-box\; margin: 0px 0px 26px\; padding: 0px\; color: rgb(34\, 34\, 34)\; font-family: &quot\;PT Sans&quot\;\, sans-serif\; font-size: 16px\; background-color: rgb(253\, 253\, 253)\;">The Jefferson Chamber&#39\;s annual Golf Outing provides the perfect balance of leisure and business. Participants have the opportunity to enjoy a day on the links with both business colleagues and potential clients\, while networking with Jefferson Chamber leadership\, board members and key decision makers in our community.<br />\n<br />\n<span style="font-size:18px\;"><strong><span style="color:#0000FF\;">Proceeds of the event benefit JHS student recipients of the annual Jefferson Chamber of Commerce Scholarship.&nbsp\; Please help us meet our goal of&nbsp\;<span style="font-family: &quot\;PT Sans&quot\;\, sans-serif\; background-color: rgb(253\, 253\, 253)\;">doubling&nbsp\;the scholarship to $1\,000.&nbsp\;&nbsp\;</span></span></strong></span></p>\n
LOCATION:Jefferson Golf Course 913 Golf Drive\, Jefferson
UID:e.2671.4254
SEQUENCE:3
DTSTAMP:20260424T153656Z
URL:https://business.jeffersonchamberwi.com/events/details/jefferson-chamber-golf-outing-2021-4254
END:VEVENT

END:VCALENDAR
